Workbook

Sheet MjTr Data ALX
A1: Sample | B1: SiO2 | C1: TiO2 | D1: Al2O3 | E1: Fe2O3 | F1: MnO | G1: MgO | H1: CaO | I1: Na2O | J1: K2O | K1: P2O5 | L1: LOI | M1: Cr | N1: Ni | P1: Sc(MR) | Q1: V(MR) | R1: Cu(MR) | S1: Ga(MR) | T1: Y(MR) | U1: Zr(MR) | W1: CaO/Al2O3 | X1: Al2O3/TiO2 | Y1: V/Sc
A2: ALX21 | B2: 45.9 | C2: 0.361 | D2: 7.45 | E2: 11.9 | F2: 0.16 | G2: 26.7 | H2: 6.94 | I2: 0.07 | J2: 0.03 | K2: 0.02 | L2: 6.6 | M2: 2981 | N2: 1345 | P2: 28.618102 | Q2: 164.32063 | R2: 42.252661 | S2: 8.1020557 | T2: 8.3522232 | U2: 18.549418 | W2: =H2/D2 -> 0.93154362 | X2: =D2/C2 -> 20.637119 | Y2: =Q2/P2 -> 5.7418423
A4: ALX02 | B4: 45.432294 | C4: 0.39120197 | D4: 7.9191967 | E4: 12.8568 | F4: 0.2008875 | G4: 25.449274 | H4: 6.7244447 | I4: 0.30661776 | J4: 0.095157237 | K4: 0.021146053 | L4: 6.02 | M4: 3015.1581 | N4: 1275.3216 | P4: 29.072268 | Q4: 171.79353 | R4: 62.412391 | S4: 8.3395006 | T4: 8.505994 | U4: 18.329385 | W4: =H4/D4 -> 0.84913218 | X4: =D4/C4 -> 20.243243 | Y4: =Q4/P4 -> 5.909189
A5: ALX07 | B5: 45.333181 | C5: 0.400712 | D5: 8.3411367 | E5: 12.506432 | F5: 0.21090105 | G5: 23.652553 | H5: 8.8683893 | I5: 0.052725263 | J5: 0.031635158 | K5: 0.021090105 | L5: 5.91 | M5: 3041.8124 | N5: 1073.9048 | P5: 29.666614 | Q5: 175.66812 | R5: 19.82674 | S5: 8.9508618 | T5: 8.7538479 | U5: 18.976741 | W5: =H5/D5 -> 1.0632111 | X5: =D5/C5 -> 20.815789 | Y5: =Q5/P5 -> 5.9214079
A6: ALX12 | B6: 45.591013 | C6: 0.44748084 | D6: 9.1265278 | E6: 12.435805 | F6: 0.24975675 | G6: 20.656964 | H6: 10.822792 | I6: 0.10406531 | J6: 0.031219593 | K6: 0.020813062 | L6: 4.8 | M6: 2816.0188 | N6: 801.39031 | P6: 32.234089 | Q6: 194.06458 | R6: 174.05299 | S6: 9.5055383 | T6: 9.929038 | U6: 22.426943 | W6: =H6/D6 -> 1.1858609 | X6: =D6/C6 -> 20.395349 | Y6: =Q6/P6 -> 6.0204766
A7: ALX14 | B7: 46.025206 | C7: 0.36006371 | D7: 7.3262481 | E7: 12.169953 | F7: 0.18337143 | G7: 25.717695 | H7: 7.7681806 | I7: 0.083177617 | J7: 0.026387158 | K7: 0.011551329 | L7: 6.4587711 | M7: 3101.2135 | N7: 1310.8794 | P7: 28.335374 | Q7: 164.47974 | R7: 334.01609 | S7: 8.6346237 | T7: 7.9304826 | U7: 17.806756 | W7: =H7/D7 -> 1.0603218 | X7: =D7/C7 -> 20.347088 | Y7: =Q7/P7 -> 5.8047493
A8: ALX15 | B8: 45.671501 | C8: 0.35017647 | D8: 7.3112602 | E8: 12.457793 | F8: 0.20161675 | G8: 27.080314 | H8: 5.9105543 | I8: 0.28650802 | J8: 0.084891265 | K8: 0.021222816 | L8: 6.39 | M8: 2971.3507 | N8: 1350.828 | P8: 26.398982 | Q8: 150.99691 | R8: 48.674066 | S8: 7.5495879 | T8: 7.571746 | U8: 15.806309 | W8: =H8/D8 -> 0.808418 | X8: =D8/C8 -> 20.878788 | Y8: =Q8/P8 -> 5.7198004
A9: ALX26 | B9: 45.215456 | C9: 0.32105649 | D9: 6.399726 | E9: 11.065747 | F9: 0.16052824 | G9: 29.986676 | H9: 5.9609488 | I9: 0.23544143 | J9: 0.064211298 | K9: 0.021403766 | L9: 7.16 | M9: 2440.4987 | N9: 1666.7708 | P9: 22.709789 | Q9: 129.18413 | R9: 46.29039 | S9: 6.8626835 | T9: 6.7042557 | U9: 16.908884 | W9: =H9/D9 -> 0.93143813 | X9: =D9/C9 -> 19.933333 | Y9: =Q9/P9 -> 5.6884777
A11: ALX18 | B11: 44.002255 | C11: 0.17828212 | D11: 3.6770687 | E11: 10.017227 | F11: 0.12256896 | G11: 39.701199 | H11: 1.6045391 | I11: 0.055713162 | J11: 0.022285265 | K11: 0.011142632 | L11: 11.38 | M11: 2005.0565 | N11: 2472.6607 | P11: 13.796205 | Q11: 74.908936 | R11: 2.9350653 | S11: 3.5726668 | T11: 3.5125301 | U11: 7.7363445 | W11: =H11/D11 -> 0.43636364 | X11: =D11/C11 -> 20.625 | Y11: =Q11/P11 -> 5.4296769
A12: ALX19 | B12: 43.89872 | C12: 0.22457323 | D12: 4.5663224 | E12: 10.116489 | F12: 0.16040945 | G12: 36.412945 | H12: 3.8926027 | I12: 0.09624567 | J12: 0.042775853 | K12: 0.010693963 | L12: 7.79 | M12: 2168.7024 | N12: 2159.302 | P12: 17.11197 | Q12: 97.932775 | R12: 27.390062 | S12: 4.6109042 | T12: 4.6960064 | U12: 9.7605499 | W12: =H12/D12 -> 0.85245902 | X12: =D12/C12 -> 20.333333 | Y12: =Q12/P12 -> 5.7230566
A13: ALX20 | B13: 44.426771 | C13: 0.23579951 | D13: 4.8767626 | E13: 10.503796 | F13: 0.15005423 | G13: 35.359208 | H13: 3.6548924 | I13: 0.13933607 | J13: 0.042872638 | K13: 0.01071816 | L13: 7.62 | M13: 2311.4766 | N13: 2118.4174 | P13: 18.527965 | Q13: 106.46253 | R13: 26.57513 | S13: 5.1852505 | T13: 5.09566 | U13: 10.971366 | W13: =H13/D13 -> 0.74945055 | X13: =D13/C13 -> 20.681818 | Y13: =Q13/P13 -> 5.7460455
A15: ALX19 Ol | P15: 4.4306732 | Q15: 5.9549826 | R15: 2.7608071 | S15: 0.07728656 | T15: 0.06509269
A16: ALX20 Ol | P16: 4.3287838 | Q16: 5.6237189 | R16: 2.4324079 | S16: 0.068659693 | T16: 0.051937113
A17: ALX26 Ol | P17: 5.7926536 | Q17: 5.8439068 | R17: 3.3144335 | S17: 0.11188462 | T17: 0.066593349
A20: Average
A21: 2s aver

Sheet Regressions ALX
A1: Sample | B1: VSA ICP-MS | C1: ±2s | D1: MgO | E1: ±2s | G1: Sc | H1: ±2s | I1: MgO | J1: ±2s | L1: Ga | M1: ±2s | N1: MgO | O1: ±2s | Q1: Y | R1: ±2s | S1: MgO | T1: ±2s
A2: ='MjTr Data ALX'!A2 -> ALX21 | B2: ='MjTr Data ALX'!Q2 -> 164.32063 | C2: =B2/20 -> 8.2160315 | D2: ='MjTr Data ALX'!$G2 -> 26.7 | E2: =D2/50 -> 0.534 | G2: ='MjTr Data ALX'!P2 -> 28.618102 | H2: =G2/20 -> 1.4309051 | I2: ='MjTr Data ALX'!$G2 -> 26.7 | J2: =I2/50 -> 0.534 | L2: ='MjTr Data ALX'!S2 -> 8.1020557 | M2: =L2/20 -> 0.40510279 | N2: ='MjTr Data ALX'!$G2 -> 26.7 | O2: =N2/50 -> 0.534 | Q2: ='MjTr Data ALX'!T2 -> 8.3522232 | R2: =Q2/20 -> 0.41761116 | S2: ='MjTr Data ALX'!$G2 -> 26.7 | T2: =S2/50 -> 0.534
A4: ='MjTr Data ALX'!A4 -> ALX02 | B4: ='MjTr Data ALX'!Q4 -> 171.79353 | C4: =B4/20 -> 8.5896765 | D4: ='MjTr Data ALX'!$G4 -> 25.449274 | E4: =D4/50 -> 0.50898549 | G4: ='MjTr Data ALX'!P4 -> 29.072268 | H4: =G4/20 -> 1.4536134 | I4: ='MjTr Data ALX'!$G4 -> 25.449274 | J4: =I4/50 -> 0.50898549 | L4: ='MjTr Data ALX'!S4 -> 8.3395006 | M4: =L4/20 -> 0.41697503 | N4: ='MjTr Data ALX'!$G4 -> 25.449274 | O4: =N4/50 -> 0.50898549 | Q4: ='MjTr Data ALX'!T4 -> 8.505994 | R4: =Q4/20 -> 0.4252997 | S4: ='MjTr Data ALX'!$G4 -> 25.449274 | T4: =S4/50 -> 0.50898549
A5: ='MjTr Data ALX'!A5 -> ALX07 | B5: ='MjTr Data ALX'!Q5 -> 175.66812 | C5: =B5/20 -> 8.7834061 | D5: ='MjTr Data ALX'!$G5 -> 23.652553 | E5: =D5/50 -> 0.47305106 | G5: ='MjTr Data ALX'!P5 -> 29.666614 | H5: =G5/20 -> 1.4833307 | I5: ='MjTr Data ALX'!$G5 -> 23.652553 | J5: =I5/50 -> 0.47305106 | L5: ='MjTr Data ALX'!S5 -> 8.9508618 | M5: =L5/20 -> 0.44754309 | N5: ='MjTr Data ALX'!$G5 -> 23.652553 | O5: =N5/50 -> 0.47305106 | Q5: ='MjTr Data ALX'!T5 -> 8.7538479 | R5: =Q5/20 -> 0.4376924 | S5: ='MjTr Data ALX'!$G5 -> 23.652553 | T5: =S5/50 -> 0.47305106
A6: ='MjTr Data ALX'!A6 -> ALX12 | B6: ='MjTr Data ALX'!Q6 -> 194.06458 | C6: =B6/20 -> 9.703229 | D6: ='MjTr Data ALX'!$G6 -> 20.656964 | E6: =D6/50 -> 0.41313929 | G6: ='MjTr Data ALX'!P6 -> 32.234089 | H6: =G6/20 -> 1.6117045 | I6: ='MjTr Data ALX'!$G6 -> 20.656964 | J6: =I6/50 -> 0.41313929 | L6: ='MjTr Data ALX'!S6 -> 9.5055383 | M6: =L6/20 -> 0.47527692 | N6: ='MjTr Data ALX'!$G6 -> 20.656964 | O6: =N6/50 -> 0.41313929 | Q6: ='MjTr Data ALX'!T6 -> 9.929038 | R6: =Q6/20 -> 0.4964519 | S6: ='MjTr Data ALX'!$G6 -> 20.656964 | T6: =S6/50 -> 0.41313929
A7: ='MjTr Data ALX'!A7 -> ALX14 | B7: ='MjTr Data ALX'!Q7 -> 164.47974 | C7: =B7/20 -> 8.2239872 | D7: ='MjTr Data ALX'!$G7 -> 25.717695 | E7: =D7/50 -> 0.51435389 | G7: ='MjTr Data ALX'!P7 -> 28.335374 | H7: =G7/20 -> 1.4167687 | I7: ='MjTr Data ALX'!$G7 -> 25.717695 | J7: =I7/50 -> 0.51435389 | L7: ='MjTr Data ALX'!S7 -> 8.6346237 | M7: =L7/20 -> 0.43173118 | N7: ='MjTr Data ALX'!$G7 -> 25.717695 | O7: =N7/50 -> 0.51435389 | Q7: ='MjTr Data ALX'!T7 -> 7.9304826 | R7: =Q7/20 -> 0.39652413 | S7: ='MjTr Data ALX'!$G7 -> 25.717695 | T7: =S7/50 -> 0.51435389
A8: ='MjTr Data ALX'!A8 -> ALX15 | B8: ='MjTr Data ALX'!Q8 -> 150.99691 | C8: =B8/20 -> 7.5498453 | D8: ='MjTr Data ALX'!$G8 -> 27.080314 | E8: =D8/50 -> 0.54160627 | G8: ='MjTr Data ALX'!P8 -> 26.398982 | H8: =G8/20 -> 1.3199491 | I8: ='MjTr Data ALX'!$G8 -> 27.080314 | J8: =I8/50 -> 0.54160627 | L8: ='MjTr Data ALX'!S8 -> 7.5495879 | M8: =L8/20 -> 0.37747939 | N8: ='MjTr Data ALX'!$G8 -> 27.080314 | O8: =N8/50 -> 0.54160627 | Q8: ='MjTr Data ALX'!T8 -> 7.571746 | R8: =Q8/20 -> 0.3785873 | S8: ='MjTr Data ALX'!$G8 -> 27.080314 | T8: =S8/50 -> 0.54160627
A9: ='MjTr Data ALX'!A9 -> ALX26 | B9: ='MjTr Data ALX'!Q9 -> 129.18413 | C9: =B9/20 -> 6.4592065 | D9: ='MjTr Data ALX'!$G9 -> 29.986676 | E9: =D9/50 -> 0.59973352 | G9: ='MjTr Data ALX'!P9 -> 22.709789 | H9: =G9/20 -> 1.1354895 | I9: ='MjTr Data ALX'!$G9 -> 29.986676 | J9: =I9/50 -> 0.59973352 | L9: ='MjTr Data ALX'!S9 -> 6.8626835 | M9: =L9/20 -> 0.34313417 | N9: ='MjTr Data ALX'!$G9 -> 29.986676 | O9: =N9/50 -> 0.59973352 | Q9: ='MjTr Data ALX'!T9 -> 6.7042557 | R9: =Q9/20 -> 0.33521278 | S9: ='MjTr Data ALX'!$G9 -> 29.986676 | T9: =S9/50 -> 0.59973352
A11: ='MjTr Data ALX'!A11 -> ALX18 | B11: ='MjTr Data ALX'!Q11 -> 74.908936 | C11: =B11/20 -> 3.7454468 | D11: ='MjTr Data ALX'!$G11 -> 39.701199 | E11: =D11/50 -> 0.79402398 | G11: ='MjTr Data ALX'!P11 -> 13.796205 | H11: =G11/20 -> 0.68981026 | I11: ='MjTr Data ALX'!$G11 -> 39.701199 | J11: =I11/50 -> 0.79402398 | L11: ='MjTr Data ALX'!S11 -> 3.5726668 | M11: =L11/20 -> 0.17863334 | N11: ='MjTr Data ALX'!$G11 -> 39.701199 | O11: =N11/50 -> 0.79402398 | Q11: ='MjTr Data ALX'!T11 -> 3.5125301 | R11: =Q11/20 -> 0.17562651 | S11: ='MjTr Data ALX'!$G11 -> 39.701199 | T11: =S11/50 -> 0.79402398
A12: ='MjTr Data ALX'!A12 -> ALX19 | B12: ='MjTr Data ALX'!Q12 -> 97.932775 | C12: =B12/20 -> 4.8966387 | D12: ='MjTr Data ALX'!$G12 -> 36.412945 | E12: =D12/50 -> 0.72825891 | G12: ='MjTr Data ALX'!P12 -> 17.11197 | H12: =G12/20 -> 0.85559851 | I12: ='MjTr Data ALX'!$G12 -> 36.412945 | J12: =I12/50 -> 0.72825891 | L12: ='MjTr Data ALX'!S12 -> 4.6109042 | M12: =L12/20 -> 0.23054521 | N12: ='MjTr Data ALX'!$G12 -> 36.412945 | O12: =N12/50 -> 0.72825891 | Q12: ='MjTr Data ALX'!T12 -> 4.6960064 | R12: =Q12/20 -> 0.23480032 | S12: ='MjTr Data ALX'!$G12 -> 36.412945 | T12: =S12/50 -> 0.72825891
A13: ='MjTr Data ALX'!A13 -> ALX20 | B13: ='MjTr Data ALX'!Q13 -> 106.46253 | C13: =B13/20 -> 5.3231264 | D13: ='MjTr Data ALX'!$G13 -> 35.359208 | E13: =D13/50 -> 0.70718417 | G13: ='MjTr Data ALX'!P13 -> 18.527965 | H13: =G13/20 -> 0.92639823 | I13: ='MjTr Data ALX'!$G13 -> 35.359208 | J13: =I13/50 -> 0.70718417 | L13: ='MjTr Data ALX'!S13 -> 5.1852505 | M13: =L13/20 -> 0.25926253 | N13: ='MjTr Data ALX'!$G13 -> 35.359208 | O13: =N13/50 -> 0.70718417 | Q13: ='MjTr Data ALX'!T13 -> 5.09566 | R13: =Q13/20 -> 0.254783 | S13: ='MjTr Data ALX'!$G13 -> 35.359208 | T13: =S13/50 -> 0.70718417
A15: ='MjTr Data ALX'!A15 -> ALX19 Ol | B15: ='MjTr Data ALX'!Q15 -> 5.9549826 | C15: 1.224766 | D15: =$D$28 -> 52 | E15: 0.57 | G15: ='MjTr Data ALX'!P15 -> 4.4306732 | H15: 0.9285581 | I15: =$D$28 -> 52 | J15: 0.57 | L15: ='MjTr Data ALX'!S15 -> 0.07728656 | M15: 0.064356064 | N15: =$D$28 -> 52 | O15: 0.57 | Q15: ='MjTr Data ALX'!T15 -> 0.06509269 | R15: 0.061428387 | S15: =$D$28 -> 52 | T15: 0.57
A16: ='MjTr Data ALX'!A16 -> ALX20 Ol | B16: ='MjTr Data ALX'!Q16 -> 5.6237189 | C16: 0.95899537 | D16: =$D$28 -> 52 | E16: 0.57 | G16: ='MjTr Data ALX'!P16 -> 4.3287838 | H16: 1.7034003 | I16: =$D$28 -> 52 | J16: 0.57 | L16: ='MjTr Data ALX'!S16 -> 0.068659693 | M16: 0.040732354 | N16: =$D$28 -> 52 | O16: 0.57 | Q16: ='MjTr Data ALX'!T16 -> 0.051937113 | R16: 0.040280491 | S16: =$D$28 -> 52 | T16: 0.57
A17: ='MjTr Data ALX'!A17 -> ALX26 Ol | B17: 5.84 | C17: 0.85790162 | D17: =$D$28 -> 52 | E17: 0.57 | G17: ='MjTr Data ALX'!P17 -> 5.7926536 | H17: 1.7034003 | I17: =$D$28 -> 52 | J17: 0.57 | L17: ='MjTr Data ALX'!S17 -> 0.11188462 | M17: 0.040732354 | N17: =$D$28 -> 52 | O17: 0.57 | Q17: ='MjTr Data ALX'!T17 -> 0.066593349 | R17: 0.040280491 | S17: =$D$28 -> 52 | T17: 0.57
A24: Intercept | B24: 52.91 | C24: 0.34 | G24: 56.7 | H24: 1.6 | L24: 52.19 | M24: 0.33 | Q24: 52.09 | R24: 0.33
A25: Slope | B25: 0.1669 | C25: 0.0039 | G25: 1.112 | H25: 0.073 | L25: 3.244 | M25: 0.075 | Q25: 3.245 | R25: 0.075
A26: Source | B26: =(B24-D26)/B25 -> 89.334931 | C26: =B26*SQRT((C25/B25)^2+(C38/B38)^2) -> 2.9167945 | D26: 38 | G26: =(G24-I26)/G25 -> 16.816547 | H26: =G26*SQRT((H25/G25)^2+(H38/G38)^2) -> 1.8135663 | I26: 38 | L26: =(L24-N26)/L25 -> 4.3742293 | M26: =L26*SQRT((M25/L25)^2+(M38/L38)^2) -> 0.14344198 | N26: 38 | Q26: =(Q24-S26)/Q25 -> 4.3420647 | R26: =Q26*SQRT((R25/Q25)^2+(R38/Q38)^2) -> 0.14287463 | S26: 38
A27: Emplaced lava | B27: =(B24-D27)/B25 -> 152.24685 | C27: =B27*SQRT((C25/B25)^2+(C37/B37)^2) -> 5.8649101 | D27: 27.5 | E27: 0.7 | G27: =(G24-I27)/G25 -> 26.258993 | H27: =G27*SQRT((H25/G25)^2+(H37/G37)^2) -> 2.3319874 | I27: 27.5 | J27: 0.7 | L27: =(L24-N27)/L25 -> 7.6109741 | M27: =L27*SQRT((M25/L25)^2+(M37/L37)^2) -> 0.29643449 | N27: 27.5 | O27: 0.7 | Q27: =(Q24-S27)/Q25 -> 7.577812 | R27: =Q27*SQRT((R25/Q25)^2+(R37/Q37)^2) -> 0.29588881 | S27: 27.5 | T27: 0.7
A28: Olivine | B28: =AVERAGE(B15:B17) -> 5.8062338 | C28: =2*STDEV(B15:B17) -> 0.33638689 | D28: 52 | E28: 0.57 | G28: =AVERAGE(G15:G17) -> 4.8507035 | H28: =2*STDEV(G15:G17) -> 1.6346839 | I28: 52 | J28: 0.57 | L28: =AVERAGE(L15:L16) -> 0.072973127 | M28: =2*STDEV(L15:L16) -> 0.012200232 | N28: 52 | O28: 0.57 | Q28: =AVERAGE(Q15:Q16) -> 0.058514901 | R28: =2*STDEV(Q15:Q16) -> 0.018604796 | S28: 52 | T28: 0.57
A29: DOl-Liq | B29: =B28/B27 -> 0.038136971 | C29: =B29*SQRT((C28/B28)^2+(C27/B27)^2) -> 0.002653328 | G29: =G28/G27 -> 0.18472542 | H29: =G29*SQRT((H28/G28)^2+(H27/G27)^2) -> 0.064377612 | L29: =L28/L27 -> 0.0095878827 | M29: =L29*SQRT((M28/L28)^2+(M27/L27)^2) -> 0.0016459019 | Q29: =Q28/Q27 -> 0.0077218729 | R29: =Q29*SQRT((R28/Q28)^2+(R27/Q27)^2) -> 0.0024736121
A31: DNNO (Canil, 2001) | B31: =(LOG(B29,10)+1.501)/-0.25 -> -0.32938477 | C31: =B31*SQRT((0.023/0.25)^2+(C40/B40)^2) -> -0.28467888
A34: V/Sc melt | B34: =B27/G27 -> 5.7978939 | C34: =B34*SQRT((C26/B26)^2+(H26/G26)^2) -> 0.65329661
A35: V/Sc olivine | B35: =B28/G28 -> 1.196988 | C35: =B35*SQRT((C28/B28)^2+(H28/G28)^2) -> 0.40930178
A37: Emplaced | B37: =B24-D27 -> 25.41 | C37: =SQRT(C24^2+E27^2) -> 0.77820306 | G37: =G24-I27 -> 29.2 | H37: =SQRT(H24^2+J27^2) -> 1.7464249 | L37: =L24-N27 -> 24.69 | M37: =SQRT(M24^2+O27^2) -> 0.7738863 | Q37: =Q24-S27 -> 24.59 | R37: =SQRT(R24^2+T27^2) -> 0.7738863
A38: Source | B38: =B24-D26 -> 14.91 | C38: =SQRT(C24^2) -> 0.34 | G38: =G24-I26 -> 18.7 | H38: =SQRT(H24^2) -> 1.6 | L38: =L24-N26 -> 14.19 | M38: =SQRT(M24^2) -> 0.33 | Q38: =Q24-S26 -> 14.09 | R38: =SQRT(R24^2) -> 0.33
A39: Log NNO | B39: =LOG(B29,10) -> -1.4186538 | C39: =0.434*C29/B29 -> 0.030194962
A40: Addition NNO | B40: =B39+1.501 -> 0.082346193 | C40: =SQRT(C39^2+0.064^2) -> 0.070765357

Sheet Ol-Liq equilibrium calc
A1: Olivine-liquid equilibrium calculations
A3: 1. Calculating olivine composition from liquid composition
A5: FeO liq | B5: 10.6
A6: MgO liq | B6: 27.5
A7: FeO/MgO liq | B7: =B5/B6 -> 0.38545455
A8: Kd | B8: 0.3
A9: MgO olivine | B9: =56.7/(1+(B7*B8*0.813)) -> 51.827568
A10: %Fo olivine | B10: =1.441*B9+19.709 -> 94.392525
A12: 2. Calculating MgO in the liquid from olivine composition: ALX and PH
A14: FeO olivine | B14: =T22 -> 6.0265 | C14: 5.7
A15: MgO olivine | B15: =T23 -> 52.054556 | C15: 52.4
A16: FeO/MgO ol | B16: =B14/B15 -> 0.11577277 | C16: =C14/C15 -> 0.10877863
A17: FeO liquid | B17: 10.6 | C17: 10.2
A18: Kd | B18: 0.3 | C18: 0.3
A19: MgO liquid | B19: =B18*B17/B16 -> 27.467599 | C19: =C18*C17/C16 -> 28.130526
A21: 3. Olivine composition calculations: PH and ALX
A22: FeO olivine | B22: 5.691 | C22: 5.695 | D22: 5.9 | E22: 5.918 | F22: 5.851 | G22: 6.394 | H22: 6.534 | I22: 6.597 | J22: 6.337 | K22: 6.391 | L22: 6.058 | M22: 6.439 | N22: 5.829 | O22: 5.72 | P22: 5.794 | Q22: 5.766 | R22: 5.707 | S22: 5.856 | T22: =AVERAGE(B22:S22) -> 6.0265 | U22: =2*STDEV(B22:S22) -> 0.64817291
A23: MgO olivine | B23: 52.392 | C23: 52.508 | D23: 52.293 | E23: 52.004 | F23: 52.397 | G23: 51.681 | H23: 51.857 | I23: 52.003 | J23: 52.092 | K23: 52.251 | L23: 51.898 | M23: 52.291 | N23: 51.95 | O23: 52.404 | P23: 51.683 | Q23: 51.901 | R23: 51.706 | S23: 51.671 | T23: =AVERAGE(B23:S23) -> 52.054556 | U23: =2*STDEV(B23:S23) -> 0.56591008
A25: 4. Olivine and liquid composition calculations: PH and ALX (Sobolev et al., 2016)
A26: FeO olivine | B26: 6.0149951 | C26: 5.9521 | D26: 5.8356226 | E26: 5.7721655 | F26: 5.6243333 | G26: 5.7993784 | H26: 5.5815667 | I26: 5.6846 | J26: 5.5391667 | K26: 5.4738 | L26: 5.5690315 | M26: 5.4337 | N26: 5.4672 | O26: 5.4642667 | P26: 5.4602864 | Q26: 5.4395 | R26: 5.396518 | S26: 5.3485 | T26: 5.3478107 | U26: 7.3183675 | V26: 7.0863 | W26: 7.1629333 | X26: 6.6871667 | Y26: 6.6110293 | Z26: 6.4330333 | AA26: 6.4283565 | AB26: 6.3575333 | AC26: 6.4128621 | AD26: 6.361368 | AE26: 6.2779333 | AF26: 6.1839674 | AG26: 6.0085333 | AH26: 6.2030311 | AI26: 6.2531603 | AJ26: 6.0962329 | AK26: 6.0484333 | AL26: 6.0484333 | AM26: 6.008903 | AN26: 5.9685174 | AO26: =AVERAGE(B26:AN26) -> 6.0041189 | AP26: =2*STDEV(B26:AN26) -> 1.0295745
A27: MgO olivine | B27: 51.718558 | C27: 52.09075 | D27: 51.368386 | E27: 51.751047 | F27: 50.698767 | G27: 52.918155 | H27: 51.188367 | I27: 52.550159 | J27: 51.054933 | K27: 50.885267 | L27: 51.937455 | M27: 50.952367 | N27: 51.259 | O27: 51.300533 | P27: 51.303813 | Q27: 51.176967 | R27: 51.253404 | S27: 51.23075 | T27: 51.406031 | U27: 50.01185 | V27: 49.118703 | W27: 49.446767 | X27: 50.394833 | Y27: 50.503594 | Z27: 50.7475 | AA27: 50.919018 | AB27: 50.377767 | AC27: 50.954285 | AD27: 50.914211 | AE27: 50.4066 | AF27: 50.007942 | AG27: 48.602067 | AH27: 50.669713 | AI27: 51.128819 | AJ27: 50.977925 | AK27: 51.389975 | AL27: 51.389975 | AM27: 50.884244 | AN27: 51.156384 | AO27: =AVERAGE(B27:AN27) -> 50.975561 | AP27: =2*STDEV(B27:AN27) -> 1.6420177
A28: FeO/MgO ol | B28: =B26/B27 -> 0.11630245 | C28: =C26/C27 -> 0.11426405 | D28: =D26/D27 -> 0.11360339 | E28: =E26/E27 -> 0.11153717 | F28: =F26/F27 -> 0.11093629 | G28: =G26/G27 -> 0.10959147 | H28: =H26/H27 -> 0.10903975 | I28: =I26/I27 -> 0.10817474 | ... AN28: =AN26/AN27 -> 0.11667199
A29: FeO liquid | B29: 10.107 | C29: 10.251 | D29: 9.872 | E29: 10.149 | F29: 10.135 | G29: 10.057 | H29: 10.02 | I29: 10.026 | J29: 9.926 | K29: 9.961 | L29: 9.956 | M29: 9.947 | N29: 9.953 | O29: 9.964 | P29: 9.627 | Q29: 9.946 | R29: 9.59 | S29: 9.91 | T29: 9.545 | U29: 10.857 | V29: 10.954 | W29: 10.974 | X29: 10.674 | Y29: 10.633 | Z29: 10.51 | AA29: 10.508 | AB29: 10.5 | AC29: 10.483 | AD29: 10.475 | AE29: 10.448 | AF29: 10.428 | AG29: 10.418 | AH29: 10.384 | AI29: 10.401 | AJ29: 10.316 | AK29: 10.286 | AL29: 10.271 | AM29: 10.254 | AN29: 10.147 | AO29: =AVERAGE(B29:AN29) -> 10.227256 | AP29: =2*STDEV(B29:AN29) -> 0.69170266
A30: Kd | B30: 0.3 | C30: 0.3 | D30: 0.3 | E30: 0.3 | F30: 0.3 | G30: 0.3 | H30: 0.3 | I30: 0.3 | J30: 0.3 | K30: 0.3 | L30: 0.3 | M30: 0.3 | N30: 0.3 | O30: 0.3 | P30: 0.3 | Q30: 0.3 | R30: 0.3 | S30: 0.3 | T30: 0.3 | U30: 0.3 | V30: 0.3 | W30: 0.3 | X30: 0.3 | Y30: 0.3 | Z30: 0.3 | AA30: 0.3 | AB30: 0.3 | AC30: 0.3 | AD30: 0.3 | AE30: 0.3 | AF30: 0.3 | AG30: 0.3 | AH30: 0.3 | AI30: 0.3 | AJ30: 0.3 | AK30: 0.3 | AL30: 0.3 | AM30: 0.3 | AN30: 0.3
A31: MgO liquid | B31: =B30*B29/B28 -> 26.070817 | C31: =C30*C29/C28 -> 26.913977 | D31: =D30*D29/D28 -> 26.069646 | E31: =E30*E29/E28 -> 27.297626 | F31: =F30*F29/F28 -> 27.407622 | G31: =G30*G29/G28 -> 27.530427 | H31: =H30*H29/H28 -> 27.567928 | I31: =I30*I29/I28 -> 27.805012 | ... AN31: =AN30*AN29/AN28 -> 26.091094 | AO31: =AVERAGE(B31:AN31) -> 26.170568 | AP31: =2*STDEV(B31:AN31) -> 3.1931187

Sheet Olivine Alexo
A1: Sample # | B1: SiO2 | C1: TiO2 | D1: Al2O3 | E1: Cr2O3 | F1: FeO | G1: MnO | H1: NiO | I1: MgO | J1: CaO | K1: SUM
A3: ALX-19 POINT 1 | B3: 40.349 | C3: 0.002 | D3: 0.068 | E3: 0.156 | F3: 9.366 | G3: 0.145 | H3: 0.379 | I3: 49.253 | J3: 0.245 | K3: 99.975
A4: ALX-19 POINT 2 | B4: 39.173 | C4: 0 | D4: 0.072 | E4: 0.191 | F4: 8.445 | G4: 0.125 | H4: 0.387 | I4: 49.807 | J4: 0.228 | K4: 98.435
A5: ALX-19 POINT 2/1 | B5: 39.419 | C5: 0.005 | D5: 0.072 | E5: 0.172 | F5: 8.495 | G5: 0.142 | H5: 0.383 | I5: 49.94 | J5: 0.222 | K5: 98.857
A6: ALX-19 POINT 3 | B6: 40.063 | C6: 0 | D6: 0.072 | E6: 0.177 | F6: 9.155 | G6: 0.152 | H6: 0.398 | I6: 49.346 | J6: 0.246 | K6: 99.612
A7: ALX-19 POINT 4 | B7: 39.248 | C7: 0.007 | D7: 0.064 | E7: 0.216 | F7: 8.461 | G7: 0.134 | H7: 0.411 | I7: 49.533 | J7: 0.229 | K7: 98.316
A8: ALX-19 POINT 4/1 | B8: 40.461 | C8: 0 | D8: 0.068 | E8: 0.161 | F8: 8.679 | G8: 0.123 | H8: 0.387 | I8: 49.734 | J8: 0.234 | K8: 99.848
A9: ALX-19 POINT 5 | B9: 40.257 | C9: 0.003 | D9: 0.068 | E9: 0.17 | F9: 9.011 | G9: 0.152 | H9: 0.402 | I9: 49.422 | J9: 0.238 | K9: 99.725
A10: ALX-19 POINT 6 | B10: 40.3 | C10: 0.007 | D10: 0.07 | E10: 0.167 | F10: 8.901 | G10: 0.152 | H10: 0.392 | I10: 49.391 | J10: 0.238 | K10: 99.627
A11: ALX-19 POINT 7 | B11: 40.307 | C11: 0.005 | D11: 0.072 | E11: 0.159 | F11: 9.422 | G11: 0.15 | H11: 0.378 | I11: 48.784 | J11: 0.246 | K11: 99.53
A12: ALX-19 POINT 8 | B12: 40.187 | C12: 0.005 | D12: 0.064 | E12: 0.17 | F12: 9.223 | G12: 0.134 | H12: 0.373 | I12: 48.98 | J12: 0.246 | K12: 99.381
A13: ALX-19 POINT 9 | B13: 40.422 | C13: 0.002 | D13: 0.076 | E13: 0.167 | F13: 8.828 | G13: 0.138 | H13: 0.397 | I13: 49.431 | J13: 0.242 | K13: 99.712
A14: ALX-19 POINT 10 | B14: 39.994 | C14: 0.003 | D14: 0.072 | E14: 0.174 | F14: 9.152 | G14: 0.152 | H14: 0.379 | I14: 49.28 | J14: 0.232 | K14: 99.447
... A24: ALX-19 POINT 21 | B24: 39.575 | C24: 0 | D24: 0.076 | E24: 0.139 | F24: 9.026 | G24: 0.143 | H24: 0.372 | I24: 49.125 | J24: 0.25 | K24: 98.717
A25: Average | B25: =AVERAGE(B3:B24) -> 39.966455 | C25: =AVERAGE(C3:C24) -> 0.0036818182 | D25: =AVERAGE(D3:D24) -> 0.070772727 | E25: =AVERAGE(E3:E24) -> 0.16727273 | F25: =AVERAGE(F3:F24) -> 8.9834545 | G25: =AVERAGE(G3:G24) -> 0.14527273 | H25: =AVERAGE(H3:H24) -> 0.38331818 | I25: =AVERAGE(I3:I24) -> 49.307273 | J25: =AVERAGE(J3:J24) -> 0.23977273 | K25: =SUM(B25:J25) -> 99.267273
A27: ALX-20 POINT 1 | B27: 40.878 | C27: 0.003 | D27: 0.068 | E27: 0.193 | F27: 9.106 | G27: 0.141 | H27: 0.403 | I27: 49.283 | J27: 0.227 | K27: =SUM(B27:J27) -> 100.302
A28: ALX-20 POINT 2 | B28: 39.667 | C28: 0.003 | D28: 0.07 | E28: 0.159 | F28: 9.475 | G28: 0.159 | H28: 0.388 | I28: 48.439 | J28: 0.225 | K28: =SUM(B28:J28) -> 98.585
A29: ALX-20 POINT 3 | B29: 40.548 | C29: 0.008 | D29: 0.1 | E29: 0.205 | F29: 9.846 | G29: 0.151 | H29: 0.391 | I29: 48.177 | J29: 0.238 | K29: =SUM(B29:J29) -> 99.664
A30: ALX-20 POINT 4 | B30: 41.235 | C30: 0 | D30: 0.066 | E30: 0.167 | F30: 9.628 | G30: 0.145 | H30: 0.403 | I30: 49.031 | J30: 0.232 | K30: =SUM(B30:J30) -> 100.907
A31: ALX-20 POINT 5 | B31: 39.834 | C31: 0.008 | D31: 0.072 | E31: 0.158 | F31: 10.018 | G31: 0.167 | H31: 0.369 | I31: 48.381 | J31: 0.235 | K31: =SUM(B31:J31) -> 99.242
A32: ALX-20 POINT 6 | B32: 39.303 | C32: 0 | D32: 0.062 | E32: 0.124 | F32: 10.338 | G32: 0.178 | H32: 0.364 | I32: 48.023 | J32: 0.242 | K32: =SUM(B32:J32) -> 98.634
A33: ALX-20 POINT 7 | B33: 39.699 | C33: 0.003 | D33: 0.07 | E33: 0.124 | F33: 10.449 | G33: 0.181 | H33: 0.372 | I33: 48.258 | J33: 0.249 | K33: =SUM(B33:J33) -> 99.405
A34: ALX-20 POINT 9 | B34: 39.909 | C34: 0.007 | D34: 0.07 | E34: 0.162 | F34: 9.991 | G34: 0.169 | H34: 0.383 | I34: 48.691 | J34: 0.235 | K34: =SUM(B34:J34) -> 99.617
A35: ALX-20 POINT 10 | B35: 39.821 | C35: 0.003 | D35: 0.066 | E35: 0.186 | F35: 9.447 | G35: 0.154 | H35: 0.393 | I35: 49.318 | J35: 0.228 | K35: =SUM(B35:J35) -> 99.616
A36: ALX-20 POINT 11 | B36: 40.428 | C36: 0 | D36: 0.066 | E36: 0.175 | F36: 9.982 | G36: 0.169 | H36: 0.381 | I36: 48.771 | J36: 0.249 | K36: =SUM(B36:J36) -> 100.221
A37: ALX-20 POINT 12 | B37: 39.71 | C37: 0.003 | D37: 0.07 | E37: 0.143 | F37: 10.318 | G37: 0.17 | H37: 0.369 | I37: 48.227 | J37: 0.245 | K37: =SUM(B37:J37) -> 99.255
A38: ALX-20 POINT 13 | B38: 38.768 | C38: 0.003 | D38: 0.072 | E38: 0.14 | F38: 10.443 | G38: 0.159 | H38: 0.374 | I38: 48.286 | J38: 0.253 | K38: =SUM(B38:J38) -> 98.498
... A63: ALX-20 POINT 18 | B63: 40.97 | C63: 0.005 | D63: 0.072 | E63: 0.193 | F63: 8.398 | G63: 0.132 | H63: 0.381 | I63: 50.25 | J63: 0.208 | K63: =SUM(B63:J63) -> 100.609
A64: Average | B64: =AVERAGE(B27:B63) -> 40.064108 | C64: =AVERAGE(C27:C63) -> 0.0034864865 | D64: =AVERAGE(D27:D63) -> 0.073162162 | E64: =AVERAGE(E27:E63) -> 0.16510811 | F64: =AVERAGE(F27:F63) -> 9.485027 | G64: =AVERAGE(G27:G63) -> 0.15335135 | H64: =AVERAGE(H27:H63) -> 0.38051351 | I64: =AVERAGE(I27:I63) -> 49.030649 | J64: =AVERAGE(J27:J63) -> 0.23432432 | K64: =SUM(B64:J64) -> 99.58973
A66: ALX-26 POINT 1 | B66: 41.2947 | C66: 0 | D66: 0.0462 | E66: 0.1851 | F66: 8.1911 | G66: 0.1265 | H66: 0.4303 | I66: 50.428 | J66: 0.213 | K66: =SUM(B66:J66) -> 100.9149
A67: ALX-26 POINT 2 | B67: 40.8194 | C67: 0 | D67: 0.0546 | E67: 0.2553 | F67: 8.1448 | G67: 0.1165 | H67: 0.448 | I67: 50.7359 | J67: 0.2407 | K67: =SUM(B67:J67) -> 100.8152
A68: ALX-26 POINT 3 | B68: 40.8873 | C68: 0 | D68: 0.0669 | E68: 0.2591 | F68: 8.6725 | G68: 0.1459 | H68: 0.4588 | I68: 49.5152 | J68: 0.2306 | K68: =SUM(B68:J68) -> 100.2363
A69: Average | B69: =AVERAGE(B66:B68) -> 41.000467 | C69: =AVERAGE(C66:C68) -> 0 | D69: =AVERAGE(D66:D68) -> 0.0559 | E69: =AVERAGE(E66:E68) -> 0.23316667 | F69: =AVERAGE(F66:F68) -> 8.3361333 | G69: =AVERAGE(G66:G68) -> 0.12963333 | H69: =AVERAGE(H66:H68) -> 0.4457 | I69: =AVERAGE(I66:I68) -> 50.226367 | J69: =AVERAGE(J66:J68) -> 0.2281 | K69: =SUM(B69:J69) -> 100.65547

Sheet LA ALX19 olivine
A1: Spot# | B1: Mg | C1: SiO2 | D1: CaO | E1: Sc | F1: V | G1: FeO | H1: Cu | I1: Ga | J1: Y | L1: Note
A3: Jl06a05 | B3: 31.893677 | C3: 26.08254 | D3: 0.14573119 | E3: 4.7068612 | F3: 5.9216142 | G3: 8.98 | H3: 2.5400301 | I3: 0.053850667 | J3: 0.054087921 | L3: ALX19.1 OL1 100 micron 7 Hz 55% 3.33 J/cm2
A4: Jl06a06 | B4: 33.068332 | C4: 27.745013 | D4: 0.16434502 | E4: 4.8877102 | F4: 6.3024077 | G4: 8.98 | H4: 2.7373817 | I4: 0.064414365 | J4: 0.051197373 | L4: ALX19.1 OL2 55 micron 7 Hz 55% 3.39 J/cm2
A5: Jl06a07 | B5: 32.089277 | C5: 27.484247 | D5: 0.156604 | E5: 4.8844716 | F5: 5.9301812 | G5: 8.98 | H5: 2.4676664 | I5: 0.059773483 | J5: 0.054947535 | L5: ALX19.1 OL3 55 micron 7 Hz 55% 3.27 J/cm2
A6: Jl06a08 | B6: 31.390529 | C6: 26.360412 | D6: 0.14330167 | E6: 4.6820754 | F6: 5.9709091 | G6: 8.98 | H6: 2.2728333 | I6: 0.052629451 | J6: 0.052363217 | L6: ALX19.1 OL4 80 micron 7 Hz 55% 2.81 J/cm2
A7: Jl06a09 | B7: 32.999485 | C7: 27.491768 | D7: 0.14592969 | E7: 4.8924346 | F7: 6.2025212 | G7: 8.98 | H7: 2.4432989 | I7: 0.051240469 | J7: 0.051865084 | L7: ALX19.1 OL5 80 micron 7 Hz 55% 3.18 J/cm2
A8: Jl06a10 | B8: 32.500429 | C8: 27.448564 | D8: 0.14931937 | E8: 4.9639433 | F8: 6.4323471 | G8: 8.98 | H8: 2.3846211 | I8: 0.047939324 | J8: 0.059859786 | L8: ALX19.1 OL6 80 micron 7 Hz 55% 2.76 J/cm2
A9: Jl06a11 | B9: 32.57094 | C9: 27.871254 | D9: 0.15352899 | E9: 4.7323338 | F9: 5.7936149 | G9: 8.98 | H9: 2.5006948 | I9: 0.045442814 | J9: 0.053192471 | L9: ALX19.1 OL7 80 micron 7 Hz 55% 2.77 J/cm2
A10: Jl06a12 | B10: 34.602812 | C10: 28.603829 | D10: 0.21019752 | E10: 5.0594264 | F10: 6.1512813 | G10: 8.98 | H10: 2.8201022 | I10: 0.058180526 | J10: 0.054363552 | L10: ALX19.1 OL8 55 micron 7 Hz 55% 3.27 J/cm2
A11: Jl06a13 | B11: 35.19795 | C11: 28.725828 | D11: 0.15930053 | E11: 4.5315531 | F11: 5.3854349 | G11: 8.98 | H11: 2.9852359 | I11: 0.050633596 | J11: 0.055524164 | L11: ALX19.1 OL9 100 micron 7 Hz 55% 2.93 J/cm2
A12: Jl06a14 | B12: 35.438927 | C12: 29.434102 | D12: 0.15563192 | E12: 4.7196609 | F12: 5.6588017 | G12: 8.98 | H12: 2.942602 | I12: 0.055032541 | J12: 0.062229513 | L12: ALX19.1 OL10 80 micron 7 Hz 55% 3.36 J/cm2
A13: Jl06a15 | B13: 34.500198 | C13: 28.190565 | D13: 0.15930932 | E13: 4.3647816 | F13: 5.5171133 | G13: 8.98 | H13: 2.8447475 | I13: 0.044994851 | J13: 0.056839602 | L13: ALX19.1 OL11 80 micron 7 Hz 55% 2.53 J/cm2
A14: Jl06a16 | B14: 32.464401 | C14: 26.903119 | D14: 0.18297554 | E14: 4.8657146 | F14: 5.8912446 | G14: 8.98 | H14: 2.3422217 | I14: 0.052833976 | J14: 0.054729944 | L14: ALX19.1 OL12 55 micron 7 Hz 55% 3.08 J/cm2
... A80: Ja13c18 | B80: 29.663127 | C80: 24.766213 | D80: 0.097280393 | E80: 3.6209281 | F80: 5.798288 | G80: 8.98 | H80: 2.4556306 | I80: 0.056874257 | J80: 0.049067212 | L80: ALX 19 OL32 80 micron 7Hz 70% 3.04 J/cm2
A82: Average | D82: =AVERAGE(D3:D81) -> 0.13880695 | E82: =AVERAGE(E3:E81) -> 4.4306732 | F82: =AVERAGE(F3:F81) -> 5.9549826 | G82: =AVERAGE(G3:G81) -> 8.98 | H82: =AVERAGE(H3:H81) -> 2.7608071 | I82: =AVERAGE(I3:I81) -> 0.076917823 | J82: =AVERAGE(J3:J81) -> 0.064819914
A83: ±2SD | D83: =2*STDEV(D3:D82) -> 0.06014126 | E83: =2*STDEV(E3:E82) -> 0.9285581 | F83: =2*STDEV(F3:F82) -> 1.224766 | H83: =2*STDEV(H3:H82) -> 0.78803464 | I83: =2*STDEV(I3:I82) -> 0.064356064 | J83: =2*STDEV(J3:J82) -> 0.061428387

Sheet LA ALX20 olivine
A1: Spot# | B1: Mg | C1: SiO2 | D1: CaO | E1: Sc | F1: V | G1: FeO | H1: Cu | I1: Ga | J1: Y | L1: Note
A3: Jl06c05 | B3: 33.584031 | C3: 28.460842 | D3: 0.14004157 | E3: 3.8547096 | F3: 5.0601595 | G3: 9.49 | H3: 2.7578126 | I3: 0.046549273 | J3: 0.059223129 | L3: ALX20.1 OL1 100 micron 7 Hz 60% 3.70 J/cm2
A4: Jl06c06 | B4: 32.266519 | C4: 27.870775 | D4: 0.14000948 | E4: 3.8150981 | F4: 4.9549607 | G4: 9.49 | H4: 2.7796543 | I4: 0.051554543 | J4: 0.047161975 | L4: ALX20.1 OL2 80 micron 7 Hz 60% 3.10 J/cm2
A5: Jl06c07 | B5: 31.244044 | C5: 26.524055 | D5: 0.13615286 | E5: 3.8655758 | F5: 4.9311004 | G5: 9.49 | H5: 2.4349387 | I5: 0.047182351 | J5: 0.041987446 | L5: ALX20.1 OL3 80 micron 7 Hz 60% 3.04 J/cm2
A6: Jl06c08 | B6: 31.438323 | C6: 27.001263 | D6: 0.13415894 | E6: 3.9820184 | F6: 5.2168721 | G6: 9.49 | H6: 2.4239649 | I6: 0.051389779 | J6: 0.049143164 | L6: ALX20.1 OL4 80 micron 7 Hz 60% 2.78 J/cm2
A7: Jl06c09 | B7: 28.776441 | C7: 24.741657 | D7: 0.14108461 | E7: 4.2281062 | F7: 5.5009649 | G7: 9.49 | H7: 1.9414756 | I7: 0.042646292 | J7: 0.049174205 | L7: ALX20.1 OL5 80 micron 7 Hz 60% 2.07 J/cm2
A8: Jl06c10 | B8: 27.655372 | C8: 23.912388 | D8: 0.13644062 | E8: 4.0131812 | F8: 5.2709086 | G8: 9.49 | H8: 2.538197 | I8: 0.042180718 | J8: 0.037619137 | L8: ALX20.1 OL6 55 micron 7 Hz 60% 4.36 J/cm2
A9: Jl06c11 | B9: 29.249634 | C9: 25.166951 | D9: 0.13737883 | E9: 4.2134724 | F9: 5.6093102 | G9: 9.49 | H9: 2.1768468 | I9: 0.060635444 | J9: 0.041739473 | L9: ALX20.1 OL7 55 micron 7 Hz 60% 3.67 J/cm2
A10: Jl06c12 | B10: 32.605825 | C10: 27.623776 | D10: 0.13508375 | E10: 3.9915313 | F10: 5.4746248 | G10: 9.49 | H10: 2.6218417 | I10: 0.046432615 | J10: 0.041316202 | L10: ALX20.1 OL8 55 micron 7 Hz 60% 4.02 J/cm2
A11: Jl06c13 | B11: 30.215732 | C11: 25.343322 | D11: 0.13252436 | E11: 3.9207641 | F11: 5.5182798 | G11: 9.49 | H11: 2.4394512 | I11: 0.052003925 | J11: 0.047808459 | L11: ALX20.1 OL9 55 micron 7 Hz 60% 4.06 J/cm2
A12: Jl06c14 | B12: 32.1624 | C12: 26.346325 | D12: 0.1357218 | E12: 3.9198704 | F12: 5.1863069 | G12: 9.49 | H12: 2.7076982 | I12: 0.04278182 | J12: 0.041997692 | L12: ALX20.1 OL10 80 micron 7 Hz 60% 3.56 J/cm2
A13: Jl06c15 | B13: 29.485958 | C13: 25.303238 | D13: 0.1866067 | E13: 4.1706073 | F13: 6.22435 | G13: 9.49 | H13: 2.4556565 | I13: 0.073583938 | J13: 0.12885918 | L13: ALX20.1 OL11 55 micron 7 Hz 60% 4.01 J/cm2
A14: Jl06c16 | B14: 30.586794 | C14: 26.510126 | D14: 0.16340586 | E14: 3.7669639 | F14: 5.9977167 | G14: 9.49 | H14: 3.2500986 | I14: 0.067905734 | J14: 0.10076634 | L14: ALX20.1 OL12 80 micron 7 Hz 60% 3.62 J/cm2
... A43: De23a18 | B43: 33.015313 | C43: 27.629813 | D43: 0.11512849 | E43: 4.5368165 | F43: 6.0282116 | G43: 9.49 | H43: 2.6172465 | I43: 0.075861071 | J43: 0.055142982 | L43: ALX20.3 OL16 80 micron 7 Hz 60% 3.56 J/cm2
A45: Average | D45: =AVERAGE(D3:D43) -> 0.12674047 | E45: =AVERAGE(E3:E43) -> 4.3287838 | F45: =AVERAGE(F3:F43) -> 5.6237189 | G45: =AVERAGE(G3:G43) -> 9.49 | H45: =AVERAGE(H3:H43) -> 2.4324079 | I45: =AVERAGE(I3:I43) -> 0.068659693 | J45: =AVERAGE(J3:J43) -> 0.051937113
A46: ±2SD | D46: =2*STDEV(D3:D44) -> 0.033702119 | E46: =2*STDEV(E3:E44) -> 1.7034003 | F46: =2*STDEV(F3:F44) -> 0.95899537 | H46: =2*STDEV(H3:H44) -> 0.7506697 | I46: =2*STDEV(I3:I44) -> 0.040732354 | J46: =2*STDEV(J3:J44) -> 0.040280491

Sheet LA ALX26 olivine
A1: Spot# | B1: Mg | C1: SiO2 | D1: CaO | E1: Sc | F1: V | G1: FeO | H1: Cu | I1: Ga | J1: Y | L1: Note
A3: Se22a03 | B3: 36.828494 | C3: 30.765467 | D3: 0.15457054 | F3: 6.1884104 | G3: 8.34 | H3: 3.0784315 | I3: 0.08518335 | J3: 0.063624146 | L3: ALX26 OL1 55 micron 7Hz 58% 3.64 J/cm2
A4: Se22a04 | B4: 45.119278 | C4: 37.8201 | D4: 0.2009357 | F4: 6.7012427 | G4: 8.34 | H4: 3.4236493 | I4: 0.12102077 | J4: 0.098058319 | L4: ALX26 OL2 55 micron 7Hz 58% 3.79 J/cm2
A5: Se22a05 | B5: 48.298008 | C5: 42.003239 | D5: 0.19114228 | F5: 6.9046649 | G5: 8.34 | H5: 3.4125145 | I5: 0.13303824 | J5: 0.077231481 | L5: ALX26 OL3 55 micron 7Hz 58% 3.33 J/cm2
A6: Se22a06 | B6: 41.217449 | C6: 34.918254 | D6: 0.14554659 | F6: 5.8329879 | G6: 8.34 | H6: 3.1913259 | I6: 0.14564112 | J6: 0.066560761 | L6: ALX26 OL4 55 micron 7Hz 58% 4.31 J/cm2
A7: Se22a07 | B7: 39.80669 | C7: 34.772346 | D7: 0.13639316 | E7: 7.7618585 | F7: 5.5679161 | G7: 8.34 | H7: 3.3594378 | I7: 0.11288631 | J7: 0.078722571 | L7: ALX26 OL5 55 micron 7Hz 58% 3.82 J/cm2
A8: Se22a08 | B8: 38.17407 | C8: 32.476457 | D8: 0.12541584 | E8: 7.5317476 | F8: 5.5303094 | G8: 8.34 | H8: 2.9649537 | I8: 0.11438738 | J8: 0.048239584 | L8: ALX26 OL6 55 micron 7Hz 58% 3.64 J/cm2
A9: Se22a09 | B9: 36.166337 | C9: 30.435645 | D9: 0.12598941 | E9: 7.0064896 | F9: 5.3373855 | G9: 8.34 | H9: 3.3067094 | I9: 0.10488367 | J9: 0.051701801 | L9: ALX26 OL7 55 micron 7Hz 58% 2.96 J/cm2
A10: Se22a10 | B10: 44.473628 | C10: 37.515033 | D10: 0.15448039 | E10: 7.9523779 | F10: 6.2072237 | G10: 8.34 | H10: 3.3269897 | I10: 0.116685 | J10: 0.058653118 | L10: ALX26 OL8 55 micron 7Hz 58% 3.33 J/cm2
A11: Se22a11 | B11: 37.609654 | C11: 32.055895 | D11: 0.13606384 | E11: 7.574014 | F11: 5.8305623 | G11: 8.34 | H11: 3.1794734 | I11: 0.099637015 | J11: 0.060789626 | L11: ALX26 OL9 55 micron 7Hz 58% 3.57 J/cm2
A12: Se22a12 | B12: 43.739586 | C12: 36.516533 | D12: 0.15234235 | E12: 7.3157373 | F12: 6.373598 | G12: 8.34 | H12: 3.2386036 | I12: 0.168545 | J12: 0.074637126 | L12: ALX26 OL10 55 micron 7Hz 58% 3.27 J/cm2
A13: Se22a13 | B13: 40.937292 | C13: 34.991508 | D13: 0.1407826 | E13: 6.6025781 | F13: 5.6150745 | G13: 8.34 | H13: 3.3790357 | I13: 0.12093896 | J13: 0.062579822 | L13: ALX26 OL11 55 micron 7Hz 58% 3.76 J/cm2
A14: Se22a14 | B14: 41.278119 | C14: 35.263409 | D14: 0.14561164 | E14: 6.9661642 | F14: 5.7274913 | G14: 8.34 | H14: 3.5787899 | I14: 0.11472013 | J14: 0.058708104 | L14: ALX26 OL12 55 micron 7Hz 58% 3.20 J/cm2
A15: Se22a15 | B15: 39.490725 | C15: 32.289892 | D15: 0.14785241 | E15: 7.2050925 | F15: 5.4856943 | G15: 8.34 | H15: 3.2646386 | I15: 0.13113417 | J15: 0.046680546 | L15: ALX26 OL13 55 micron 7Hz 58% 3.51 J/cm2
A16: Se22a16 | B16: 40.177643 | C16: 34.32832 | D16: 0.14503744 | E16: 6.1853831 | F16: 5.3569835 | G16: 8.34 | H16: 4.8997182 | I16: 0.142615 | J16: 0.056295032 | L16: ALX26 OL14 55 micron 7Hz 58% 3.45 J/cm2
A17: Se22a17 | B17: 41.899334 | C17: 35.19361 | D17: 0.15196553 | E17: 6.2772462 | F17: 5.6770633 | G17: 8.34 | H17: 3.1304539 | I17: 0.116685 | J17: 0.065202751 | L17: ALX26 OL15 55 micron 7Hz 58% 3.27 J/cm2
A18: Se22a18 | B18: 35.701541 | C18: 29.965536 | D18: 0.13854772 | E18: 5.4445174 | F18: 5.3217439 | G18: 8.34 | H18: 3.3473644 | I18: 0.116685 | J18: 0.061363578 | L18: ALX26 OL16 55 micron 7Hz 58% 3.14 J/cm2
... A49: Se22d03 | B49: 37.932429 | C49: 32.832465 | D49: 0.14823769 | E49: 3.6654857 | F49: 5.8157864 | G49: 8.34 | H49: 3.2365036 | I49: 0.090755 | J49: 0.07779 | L49: ALX26 OL49 55 micron 7Hz 60% 3.39 J/cm2
A50: Se22d04 | B50: 32.017568 | C50: 29.071058 | D50: 0.16396265 | E50: 4.8546173 | F50: 6.9222459 | G50: 8.34 | H50: 3.7127273 | J50: 0.14183431 | L50: ALX26 OL50 55 micron 7Hz 60% 3.20 J/cm2
A51: Se22d05 | B51: 38.154552 | C51: 20.677923 | F51: 6.7064663 | G51: 8.34 | J51: 0.095857696 | L51: ALX26 OL51 55 micron 7Hz 60% 3.70 J/cm2
A53: Average | D53: =AVERAGE(D3:D50) -> 0.14995184 | E53: =AVERAGE(E3:E50) -> 5.7926536 | F53: =AVERAGE(F3:F50) -> 5.8439068 | G53: =AVERAGE(G3:G50) -> 8.34 | H53: =AVERAGE(H3:H50) -> 3.3144335 | I53: =AVERAGE(I3:I50) -> 0.11188462 | J53: =AVERAGE(J3:J50) -> 0.066593349
A54: ±2SD | D54: =2*STDEV(D3:D52) -> 0.034538489 | E54: =2*STDEV(E3:E52) -> 2.0329195 | F54: =2*STDEV(F3:F52) -> 0.85790162 | H54: =2*STDEV(H3:H52) -> 0.60491645 | I54: =2*STDEV(I3:I52) -> 0.035717654 | J54: =2*STDEV(J3:J52) -> 0.033548221
