Workbook

Sheet Alg values and Manual values
A1: 70 pixel blocks | B1: KNN | C1: =RSQ(C3:C75,$AA3:$AA75) -> 0.85185614 | D1: =RSQ(D3:D75,$AB3:$AB75) -> 0.83712444 | E1: =RSQ(E3:E75,$AC3:$AC75) -> 0.93397474 | J1: Tree | K1: =RSQ(K3:K75,$AA3:$AA75) -> 0.85601737 | L1: =RSQ(L3:L75,$AB3:$AB75) -> 0.85628145 | M1: =RSQ(M3:M75,$AC3:$AC75) -> 0.95493456 | R1: ENS | S1: =RSQ(S3:S75,$AA3:$AA75) -> 0.85029041 | T1: =RSQ(T3:T75,$AB3:$AB75) -> 0.841246 | U1: =RSQ(U3:U75,$AC3:$AC75) -> 0.93918844 | AA1: Dylan's and average
B2: Image_num | C2: grass | D2: straw | E2: soil | F2: unknown | G2: unk_grass | H2: unk_straw | I2: unk_soil | J2: Image_num | K2: grass | L2: straw | M2: soil | N2: unknown | O2: unk_grass | P2: unk_straw | Q2: unk_soil | R2: Image_num | S2: grass | T2: straw | U2: soil | V2: unknown | W2: unk_grass | X2: unk_straw | Y2: unk_soil | AA2: %Grass | AB2: %Litter | AC2: %Soil | AD2: unknown
B3: 274 | C3: 47.654987 | D3: 27.762803 | E3: 20.053908 | F3: 4.5283019 | G3: 0.86253369 | H3: 0.86253369 | I3: 2.8032345 | J3: 274 | K3: 48.51752 | L3: 35.256065 | M3: 16.226415 | N3: 0 | O3: 0 | P3: 0 | Q3: 0 | R3: 274 | S3: 51.698113 | T3: 26.576819 | U3: 6.0377358 | V3: 15.687332 | W3: 5.3908356 | X3: 7.6010782 | Y3: 2.6954178 | Z3: 274 | AA3: 21.5 | AB3: 66 | AC3: 9.7 | AD3: 2.8
B4: 290 | C4: 19.706499 | D4: 2.3584906 | E4: 72.69392 | F4: 5.2410901 | G4: 0.73375262 | H4: 0.68134172 | I4: 3.8259958 | J4: 290 | K4: 18.658281 | L4: 5.870021 | M4: 75.471698 | N4: 0 | O4: 0 | P4: 0 | Q4: 0 | R4: 290 | S4: 19.75891 | T4: 3.0398323 | U4: 51.677149 | V4: 25.524109 | W4: 8.8050314 | X4: 2.7253669 | Y4: 13.993711 | Z4: 290 | AA4: 7.6 | AB4: 2.1 | AC4: 90.3 | AD4: 0
B5: 310 | C5: 0.31746032 | D5: 0.21164021 | E5: 99.312169 | F5: 0.15873016 | G5: 0 | H5: 0.052910053 | I5: 0.10582011 | J5: 310 | K5: 0.95238095 | L5: 0.21164021 | M5: 95.978836 | N5: 2.8571429 | O5: 0 | P5: 0 | Q5: 2.8571429 | R5: 310 | S5: 0.8994709 | T5: 0.10582011 | U5: 95.132275 | V5: 3.8624339 | W5: 0.79365079 | X5: 0.79365079 | Y5: 2.2751323 | Z5: 310 | AA5: 2.4472222 | AB5: 0 | AC5: 96.158333 | AD5: 1.3944444 | AE5: 1.7527778 | AF5: 0 | AG5: 1.7583333
B6: 331 | C6: 0 | D6: 1.6483516 | E6: 98.076923 | F6: 0.27472527 | G6: 0 | H6: 0 | I6: 0.27472527 | J6: 331 | K6: 0.068681319 | L6: 2.1978022 | M6: 97.733516 | N6: 0 | O6: 0 | P6: 0 | Q6: 0 | R6: 331 | S6: 0.068681319 | T6: 2.4725275 | U6: 95.535714 | V6: 1.9230769 | W6: 0 | X6: 0.75549451 | Y6: 1.1675824 | Z6: 331 | AA6: 0.7 | AB6: 0.7 | AC6: 97.9 | AD6: 0.7
B7: 339 | C7: 0.58275058 | D7: 0.11655012 | E7: 98.892774 | F7: 0.40792541 | G7: 0 | H7: 0.11655012 | I7: 0.29137529 | J7: 339 | K7: 1.1072261 | L7: 0.34965035 | M7: 98.484848 | N7: 0.058275058 | O7: 0 | P7: 0.058275058 | Q7: 0 | R7: 339 | S7: 1.2237762 | T7: 0.29137529 | U7: 97.261072 | V7: 1.2237762 | W7: 0.52447552 | X7: 0.11655012 | Y7: 0.58275058 | Z7: 339 | AA7: 1.05 | AB7: 0 | AC7: 96.172222 | AD7: 2.7777778 | AE7: 1.05 | AF7: 0 | AG7: 1.7277778
B8: 554 | C8: 25.627907 | D8: 6 | E8: 65.302326 | F8: 3.0697674 | G8: 0.46511628 | H8: 0.74418605 | I8: 1.8604651 | J8: 554 | K8: 25.813953 | L8: 6.1395349 | M8: 67.906977 | N8: 0.13953488 | O8: 0 | P8: 0.13953488 | Q8: 0 | R8: 554 | S8: 29.116279 | T8: 3.2093023 | U8: 57.813953 | V8: 9.8604651 | W8: 3.0697674 | X8: 3.0232558 | Y8: 3.7674419 | Z8: 554 | AA8: 28.486111 | AB8: 0.7 | AC8: 67.341667 | AD8: 3.4722222 | AE8: 0.013888889 | AF8: 0.7 | AG8: 2.7583333
B9: 565 | C9: 19.880952 | D9: 2.202381 | E9: 76.488095 | F9: 1.4285714 | G9: 0.05952381 | H9: 0.29761905 | I9: 1.0714286 | J9: 565 | K9: 20.47619 | L9: 3.5714286 | M9: 75.892857 | N9: 0.05952381 | O9: 0 | P9: 0.05952381 | Q9: 0 | R9: 565 | S9: 22.380952 | T9: 2.0833333 | U9: 68.75 | V9: 6.7857143 | W9: 1.9047619 | X9: 1.8452381 | Y9: 3.0357143 | Z9: 565 | AA9: 24.3 | AB9: 2.1 | AC9: 73.6 | AD9: 0
B10: 574 | C10: 49.918301 | D10: 5.1062092 | E10: 42.116013 | F10: 2.8594771 | G10: 0.40849673 | H10: 0.65359477 | I10: 1.7973856 | J10: 574 | K10: 48.651961 | L10: 7.2303922 | M10: 44.117647 | N10: 0 | O10: 0 | P10: 0 | Q10: 0 | R10: 574 | S10: 52.736928 | T10: 4.7385621 | U10: 32.720588 | V10: 9.8039216 | W10: 3.2271242 | X10: 3.2679739 | Y10: 3.3088235 | Z10: 574 | AA10: 39.6 | AB10: 0.7 | AC10: 59.7 | AD10: 0
B11: 584 | C11: 82.840981 | D11: 1.822753 | E11: 13.827781 | F11: 1.5084852 | G11: 0.2514142 | H11: 0.1257071 | I11: 1.1313639 | J11: 584 | K11: 85.543683 | L11: 3.5197989 | M11: 10.936518 | N11: 0 | O11: 0 | P11: 0 | Q11: 0 | R11: 584 | S11: 86.109365 | T11: 1.8856065 | U11: 6.4739158 | V11: 5.5311125 | W11: 2.0113136 | X11: 1.4456317 | Y11: 2.0741672 | Z11: 584 | AA11: 61.8 | AB11: 1.4 | AC11: 36.8 | AD11: 0
B12: 729 | C12: 58.392857 | D12: 12.02381 | E12: 26.309524 | F12: 3.2738095 | G12: 0.11904762 | H12: 0.5952381 | I12: 2.5595238 | J12: 729 | K12: 70.654762 | L12: 17.440476 | M12: 11.904762 | N12: 0 | O12: 0 | P12: 0 | Q12: 0 | R12: 729 | S12: 71.130952 | T12: 13.75 | U12: 4.4047619 | V12: 10.714286 | W12: 5.1190476 | X12: 2.5595238 | Y12: 3.0357143 | Z12: 729 | AA12: 38.9 | AB12: 47.2 | AC12: 10.4 | AD12: 3.5
B13: 743 | C13: 13.180828 | D13: 3.6492375 | E13: 81.64488 | F13: 1.5250545 | G13: 0.10893246 | H13: 0.10893246 | I13: 1.3071895 | J13: 743 | K13: 17.320261 | L13: 7.8431373 | M13: 74.836601 | N13: 0 | O13: 0 | P13: 0 | Q13: 0 | R13: 743 | S13: 18.954248 | T13: 5.0653595 | U13: 65.740741 | V13: 10.239651 | W13: 3.4313725 | X13: 2.5599129 | Y13: 4.248366 | Z13: 743 | AA13: 20.1 | AB13: 0 | AC13: 79.9 | AD13: 0
B14: 754 | C14: 7.3131955 | D14: 0.84790673 | E14: 91.414944 | F14: 0.42395337 | G14: 0.052994171 | H14: 0 | I14: 0.37095919 | J14: 754 | K14: 10.227875 | L14: 1.1658718 | M14: 86.645469 | N14: 1.9607843 | O14: 0 | P14: 0 | Q14: 1.9607843 | R14: 754 | S14: 11.18177 | T14: 0.74191839 | U14: 81.717011 | V14: 6.3593005 | W14: 2.7027027 | X14: 0.58293588 | Y14: 3.0736619 | Z14: 754 | AA14: 12.152778 | AB14: 0.35 | AC14: 87.497222 | AD14: 0 | AE14: 0.34722222 | AF14: 0.35 | AG14: 0.69722222
B15: 767 | C15: 0.73654391 | D15: 0.67988669 | E15: 98.356941 | F15: 0.2266289 | G15: 0 | H15: 0 | I15: 0.2266289 | J15: 767 | K15: 1.0764873 | L15: 0.9631728 | M15: 97.96034 | N15: 0 | O15: 0 | P15: 0 | Q15: 0 | R15: 767 | S15: 1.1898017 | T15: 0.84985836 | U15: 96.600567 | V15: 1.3597734 | W15: 0.39660057 | X15: 0.16997167 | Y15: 0.79320113 | Z15: 767 | AA15: 4.2 | AB15: 0 | AC15: 95.8 | AD15: 0
B16: 779 | C16: 3.981142 | D16: 1.1524358 | E16: 94.185437 | F16: 0.68098481 | G16: 0 | H16: 0.052383447 | I16: 0.62860136 | J16: 779 | K16: 4.0335254 | L16: 0.83813515 | M16: 95.128339 | N16: 0 | O16: 0 | P16: 0 | Q16: 0 | R16: 779 | S16: 6.3907805 | T16: 0.52383447 | U16: 89.942378 | V16: 3.1430068 | W16: 1.0476689 | X16: 0.47145102 | Y16: 1.6238869 | Z16: 779 | AA16: 7.6 | AB16: 0 | AC16: 92.4 | AD16: 0
B17: 1208 | C17: 25.311943 | D17: 30.793226 | E17: 37.566845 | F17: 6.3279857 | G17: 0.84670232 | H17: 2.1390374 | I17: 3.342246 | J17: 1208 | K17: 22.950089 | L17: 35.784314 | M17: 41.265597 | N17: 0 | O17: 0 | P17: 0 | Q17: 0 | R17: 1208 | S17: 25.178253 | T17: 26.604278 | U17: 28.163993 | V17: 20.053476 | W17: 5.3030303 | X17: 9.0463458 | Y17: 5.7040998 | Z17: 1208 | AA17: 53.808333 | AB17: 7.2944444 | AC17: 36.813889 | AD17: 2.0833333 | AE17: 6.6083333 | AF17: 5.9055556 | AG17: 2.7861111
B18: 1214 | C18: 31.438127 | D18: 39.241918 | E18: 23.913043 | F18: 5.4069119 | G18: 0.33444816 | H18: 2.2853958 | I18: 2.787068 | J18: 1214 | K18: 46.71126 | L18: 30.211817 | M18: 22.853958 | N18: 0.22296544 | O18: 0 | P18: 0.22296544 | Q18: 0 | R18: 1214 | S18: 43.924192 | T18: 21.404682 | U18: 15.105909 | V18: 19.565217 | W18: 6.7447046 | X18: 7.2463768 | Y18: 5.574136 | Z18: 1214 | AA18: 75.7 | AB18: 4.9 | AC18: 18.8 | AD18: 0.7
B19: 1221 | C19: 55.711695 | D19: 28.875793 | E19: 11.060743 | F19: 4.3517679 | G19: 0.63463282 | H19: 2.2212149 | I19: 1.4959202 | J19: 1221 | K19: 57.978241 | L19: 31.550317 | M19: 10.471442 | N19: 0 | O19: 0 | P19: 0 | Q19: 0 | R19: 1221 | S19: 59.88214 | T19: 22.166818 | U19: 5.5303717 | V19: 12.420671 | W19: 4.3517679 | X19: 5.93835 | Y19: 2.130553 | Z19: 1221 | AA19: 70.155556 | AB19: 5.1916667 | AC19: 20.138889 | AD19: 4.5138889 | AE19: 3.4555556 | AF19: 3.1083333 | AG19: 4.8611111
B20: 1228 | C20: 81.591512 | D20: 13.31565 | E20: 2.9177719 | F20: 2.1750663 | G20: 0.053050398 | H20: 1.6445623 | I20: 0.47745358 | J20: 1228 | K20: 88.541114 | L20: 9.3899204 | M20: 2.0689655 | N20: 0 | O20: 0 | P20: 0 | Q20: 0 | R20: 1228 | S20: 89.814324 | T20: 5.2519894 | U20: 0.74270557 | V20: 4.1909814 | W20: 1.7506631 | X20: 1.8037135 | Y20: 0.63660477 | Z20: 1228 | AA20: 88.2 | AB20: 6.3 | AC20: 4.9 | AD20: 0.7
B21: 1240 | C21: 59.1692 | D21: 29.027356 | E21: 8.1053698 | F21: 3.698075 | G21: 0.45592705 | H21: 1.1144883 | I21: 2.1276596 | J21: 1240 | K21: 58.510638 | L21: 32.168186 | M21: 9.3211753 | N21: 0 | O21: 0 | P21: 0 | Q21: 0 | R21: 1240 | S21: 60.030395 | T21: 26.291793 | U21: 3.9513678 | V21: 9.7264438 | W21: 3.1914894 | X21: 4.154002 | Y21: 2.3809524 | Z21: 1240 | AA21: 52 | AB21: 32 | AC21: 15 | AD21: 1
B22: 2271 | C22: 90.226064 | D22: 2.2606383 | E22: 6.1170213 | F22: 1.3962766 | G22: 0.33244681 | H22: 0.53191489 | I22: 0.53191489 | J22: 2271 | K22: 90.159574 | L22: 3.6569149 | M22: 6.1835106 | N22: 0 | O22: 0 | P22: 0 | Q22: 0 | R22: 2271 | S22: 91.954787 | T22: 1.7287234 | U22: 2.6595745 | V22: 3.6569149 | W22: 1.462766 | X22: 1.3297872 | Y22: 0.8643617 | Z22: 2271 | AA22: 80.964815 | AB22: 6.7648148 | AC22: 7.3259259 | AD22: 4.9444444 | AE22: 7.8834493 | AF22: 4.6531027 | AG22: 5.4573644
B23: 2717 | C23: 59.574468 | D23: 32.522796 | E23: 3.5866261 | F23: 4.3161094 | G23: 0.60790274 | H23: 2.6139818 | I23: 1.0942249 | J23: 2717 | K23: 67.902736 | L23: 25.288754 | M23: 6.5045593 | N23: 0.30395137 | O23: 0 | P23: 0.30395137 | Q23: 0 | R23: 2717 | S23: 70.273556 | T23: 17.629179 | U23: 2.2492401 | V23: 9.8480243 | W23: 3.0395137 | X23: 5.2887538 | Y23: 1.5197568 | Z23: 2717 | AA23: 60.4 | AB23: 27.1 | AC23: 8.3 | AD23: 4.2
B24: 2794 | C24: 97.933333 | D24: 0.13333333 | E24: 1.6666667 | F24: 0.26666667 | G24: 0 | H24: 0 | I24: 0.26666667 | J24: 2794 | K24: 99.333333 | L24: 0.13333333 | M24: 0.53333333 | N24: 0 | O24: 0 | P24: 0 | Q24: 0 | R24: 2794 | S24: 99.466667 | T24: 0.066666667 | U24: 0.066666667 | V24: 0.4 | W24: 0.4 | X24: 0 | Y24: 0 | Z24: 2794 | AA24: 87.722222 | AB24: 2.3333333 | AC24: 6.4648148 | AD24: 3.4796296 | AE24: 2.9179309 | AF24: 2.0072092 | AG24: 4.1693629
B25: 2806 | C25: 99.534161 | D25: 0 | E25: 0.46583851 | F25: 0 | G25: 0 | H25: 0 | I25: 0 | J25: 2806 | K25: 99.84472 | L25: 0.077639752 | M25: 0.077639752 | N25: 0 | O25: 0 | P25: 0 | Q25: 0 | R25: 2806 | S25: 99.611801 | T25: 0 | U25: 0 | V25: 0.38819876 | W25: 0.23291925 | X25: 0.077639752 | Y25: 0.077639752 | Z25: 2806 | AA25: 88.201852 | AB25: 1.4 | AC25: 6 | AD25: 4.3981481 | AE25: 0.98733058 | AF25: 1.1430952 | AG25: 4.2809656
B26: 2815 | C26: 99.4311 | D26: 0.063211125 | E26: 0.505689 | F26: 0 | G26: 0 | H26: 0 | I26: 0 | J26: 2815 | K26: 99.620733 | L26: 0.063211125 | M26: 0.2528445 | N26: 0.063211125 | O26: 0 | P26: 0 | Q26: 0.063211125 | R26: 2815 | S26: 99.747155 | T26: 0 | U26: 0.063211125 | V26: 0.18963338 | W26: 0.12642225 | X26: 0 | Y26: 0.063211125 | Z26: 2815 | AA26: 91.464815 | AB26: 0.93148148 | AC26: 3.9648148 | AD26: 3.7055556 | AE26: 2.3820848 | AF26: 0.33130039 | AG26: 2.3125011
B27: 2826 | C27: 99.558742 | D27: 0.055157198 | E27: 0.27578599 | F27: 0.1103144 | G27: 0.055157198 | H27: 0 | I27: 0.055157198 | J27: 2826 | K27: 99.889686 | L27: 0 | M27: 0.1103144 | N27: 0 | O27: 0 | P27: 0 | Q27: 0 | R27: 2826 | S27: 99.889686 | T27: 0 | U27: 0.055157198 | V27: 0.055157198 | W27: 0 | X27: 0 | Y27: 0.055157198 | Z27: 2826 | AA27: 95.8 | AB27: 1.4 | AC27: 2.8 | AD27: 0
B28: 2837 | C28: 98.521505 | D28: 0.2016129 | E28: 1.0080645 | F28: 0.2688172 | G28: 0 | H28: 0.1344086 | I28: 0.1344086 | J28: 2837 | K28: 99.52957 | L28: 0.1344086 | M28: 0.33602151 | N28: 0 | O28: 0 | P28: 0 | Q28: 0 | R28: 2837 | S28: 99.52957 | T28: 0.067204301 | U28: 0.1344086 | V28: 0.2688172 | W28: 0.2016129 | X28: 0.067204301 | Y28: 0 | Z28: 2837 | AA28: 95.8 | AB28: 1.4 | AC28: 2.8 | AD28: 0
B29: 4142 | C29: 90.129081 | D29: 6.302202 | E29: 2.5816249 | F29: 0.98709188 | G29: 0 | H29: 0.91116173 | I29: 0.075930144 | J29: 4142 | K29: 87.395596 | L29: 6.7577828 | M29: 5.0873197 | N29: 0.75930144 | O29: 0 | P29: 0.75930144 | Q29: 0 | R29: 4142 | S29: 87.851177 | T29: 4.7076689 | U29: 1.9741838 | V29: 5.4669704 | W29: 1.594533 | X29: 2.2019742 | Y29: 1.6704632 | Z29: 4142 | AA29: 73.161111 | AB29: 0 | AC29: 23.598148 | AD29: 3.2407407 | AE29: 5.071349 | AF29: 0 | AG29: 8.4938326
B30: 4145 | C30: 98.962963 | D30: 0.81481481 | E30: 0.074074074 | F30: 0.14814815 | G30: 0.074074074 | H30: 0.074074074 | I30: 0 | J30: 4145 | K30: 98.518519 | L30: 1.1851852 | M30: 0.2962963 | N30: 0 | O30: 0 | P30: 0 | Q30: 0 | R30: 4145 | S30: 98.666667 | T30: 0.44444444 | U30: 0 | V30: 0.88888889 | W30: 0.2962963 | X30: 0.44444444 | Y30: 0.14814815 | Z30: 4145 | AA30: 79.392593 | AB30: 10.875926 | AC30: 5.3 | AD30: 4.3981481 | AE30: 1.7973536 | AF30: 2.1558817 | AG30: 3.7585458
B31: 4148 | C31: 37.310606 | D31: 21.212121 | E31: 36.805556 | F31: 4.6717172 | G31: 0.50505051 | H31: 2.3989899 | I31: 1.7676768 | J31: 4148 | K31: 24.558081 | L31: 7.3232323 | M31: 62.878788 | N31: 5.239899 | O31: 0 | P31: 5.239899 | Q31: 0 | R31: 4148 | S31: 28.472222 | T31: 11.111111 | U31: 40.025253 | V31: 20.391414 | W31: 2.3989899 | X31: 6.9444444 | Y31: 11.04798 | Z31: 4148 | AA31: 25.927778 | AB31: 0.23148148 | AC31: 73.840741 | AD31: 0 | AE31: 2.1608612 | AF31: 0.32736425 | AG31: 2.3046622
B32: 4262 | C32: 96.707819 | D32: 0 | E32: 3.2921811 | F32: 0 | G32: 0 | H32: 0 | I32: 0 | J32: 4262 | K32: 96.707819 | L32: 0 | M32: 0 | N32: 3.2921811 | O32: 0 | P32: 0 | Q32: 3.2921811 | R32: 4262 | S32: 100 | T32: 0 | U32: 0 | V32: 0 | W32: 0 | X32: 0 | Y32: 0 | Z32: 4262 | AA32: 96.505556 | AB32: 0.7 | AC32: 2.1 | AD32: 0.69444444 | AE32: 1.5173279 | AF32: 0.98994949 | AG32: 1.5121728
B33: 4264 | C33: 88.994565 | D33: 5.638587 | E33: 2.2418478 | F33: 3.125 | G33: 0.61141304 | H33: 1.4266304 | I33: 1.0869565 | J33: 4264 | K33: 89.673913 | L33: 6.861413 | M33: 3.4646739 | N33: 0 | O33: 0 | P33: 0 | Q33: 0 | R33: 4264 | S33: 89.673913 | T33: 3.3967391 | U33: 1.1548913 | V33: 5.7744565 | W33: 2.9891304 | X33: 2.0380435 | Y33: 0.74728261 | Z33: 4264 | AA33: 92.127778 | AB33: 2.3314815 | AC33: 2.3333333 | AD33: 3.2407407 | AE33: 2.272392 | AF33: 1.1923136 | AG33: 2.0072092
B34: 4267 | C34: 91.209564 | D34: 5.625879 | E34: 2.1097046 | F34: 1.0548523 | G34: 0.21097046 | H34: 0.42194093 | I34: 0.42194093 | J34: 4267 | K34: 90.787623 | L34: 5.4852321 | M34: 3.7271449 | N34: 0 | O34: 0 | P34: 0 | Q34: 0 | R34: 4267 | S34: 91.139241 | T34: 4.2897328 | U34: 2.1800281 | V34: 2.3909986 | W34: 1.0548523 | X34: 0.91420534 | Y34: 0.42194093 | Z34: 4267 | AA34: 91.003704 | AB34: 0 | AC34: 5.5574074 | AD34: 3.4722222 | AE34: 3.4713683 | AF34: 0 | AG34: 1.4946567
B35: 4324 | C35: 0 | D35: 1.1428571 | E35: 98.342857 | F35: 0.51428571 | G35: 0 | H35: 0.057142857 | I35: 0.45714286 | J35: 4324 | K35: 0 | L35: 2.5714286 | M35: 94.571429 | N35: 2.8571429 | O35: 0 | P35: 0 | Q35: 2.8571429 | R35: 4324 | S35: 0 | T35: 1.3714286 | U35: 92.742857 | V35: 5.8857143 | W35: 0.057142857 | X35: 1.2 | Y35: 4.6285714 | Z35: 4324 | AA35: 0 | AB35: 0 | AC35: 100 | AD35: 0 | AE35: 0 | AF35: 0 | AG35: 0
B36: 4325 | C36: 14.944444 | D36: 78.5 | E36: 4 | F36: 2.5555556 | G36: 0.16666667 | H36: 1.2222222 | I36: 1.1666667 | J36: 4325 | K36: 17.333333 | L36: 77.333333 | M36: 5.3333333 | N36: 0 | O36: 0 | P36: 0 | Q36: 0 | R36: 4325 | S36: 18.944444 | T36: 71.222222 | U36: 2.6666667 | V36: 7.1666667 | W36: 2.2222222 | X36: 3.5 | Y36: 1.4444444 | Z36: 4325 | AA36: 25 | AB36: 56.9 | AC36: 18.1 | AD36: 0
B37: 4365 | C37: 0.63636364 | D37: 1.3636364 | E37: 97.636364 | F37: 0.36363636 | G37: 0 | H37: 0 | I37: 0.36363636 | J37: 4365 | K37: 0.63636364 | L37: 2.4545455 | M37: 96.818182 | N37: 0.090909091 | O37: 0 | P37: 0.090909091 | Q37: 0 | R37: 4365 | S37: 1.1818182 | T37: 1.5454545 | U37: 94.090909 | V37: 3.1818182 | W37: 0.090909091 | X37: 1 | Y37: 2.0909091 | Z37: 4365 | AA37: 1.3944444 | AB37: 0.46481481 | AC37: 96.511111 | AD37: 1.6296296 | AE37: 0.56475713 | AF37: 0.32868153 | AG37: 2.0570265
B38: 4366 | C38: 5.4718477 | D38: 72.878668 | E38: 18.318795 | F38: 3.3306899 | G38: 0.31720856 | H38: 1.0309278 | I38: 1.9825535 | J38: 4366 | K38: 5.075337 | L38: 78.429818 | M38: 16.415543 | N38: 0.079302141 | O38: 0 | P38: 0 | Q38: 0.079302141 | R38: 4366 | S38: 5.3925456 | T38: 69.547978 | U38: 13.877875 | V38: 11.181602 | W38: 1.665345 | X38: 7.0578906 | Y38: 2.4583664 | Z38: 4366 | AA38: 6.7092593 | AB38: 75.931481 | AC38: 14.348148 | AD38: 3.0111111 | AE38: 1.9755415 | AF38: 2.5774199 | AG38: 5.349992
B39: 4369 | C39: 0 | D39: 1.2173913 | E39: 98 | F39: 0.7826087 | G39: 0 | H39: 0 | I39: 0.7826087 | J39: 4369 | K39: 0.34782609 | L39: 3.2173913 | M39: 96.26087 | N39: 0.17391304 | O39: 0 | P39: 0.17391304 | Q39: 0 | R39: 4369 | S39: 0.52173913 | T39: 1.0434783 | U39: 93.565217 | V39: 4.8695652 | W39: 0.60869565 | X39: 0.95652174 | Y39: 3.3043478 | Z39: 4369 | AA39: 0 | AB39: 0 | AC39: 100 | AD39: 0 | AE39: 0 | AF39: 0 | AG39: 0
B40: 4387 | C40: 0.32467532 | D40: 1.461039 | E40: 97.24026 | F40: 0.97402597 | G40: 0 | H40: 0.081168831 | I40: 0.89285714 | J40: 4387 | K40: 0.81168831 | L40: 1.9480519 | M40: 97.159091 | N40: 0.081168831 | O40: 0 | P40: 0.081168831 | Q40: 0 | R40: 4387 | S40: 0.64935065 | T40: 1.2987013 | U40: 93.831169 | V40: 4.2207792 | W40: 0.32467532 | X40: 1.0551948 | Y40: 2.8409091 | Z40: 4387 | AA40: 2.3907407 | AB40: 0 | AC40: 97.609259 | AD40: 0 | AE40: 1.210978 | AF40: 0 | AG40: 1.210978
B41: 4388 | C41: 63.056836 | D41: 23.732719 | E41: 9.984639 | F41: 3.2258065 | G41: 0.46082949 | H41: 1.6897081 | I41: 1.0752688 | J41: 4388 | K41: 71.044547 | L41: 20.506912 | M41: 8.4485407 | N41: 0 | O41: 0 | P41: 0 | Q41: 0 | R41: 4388 | S41: 69.354839 | T41: 13.978495 | U41: 3.5330261 | V41: 13.133641 | W41: 6.2211982 | X41: 4.2242704 | Y41: 2.688172 | Z41: 4388 | AA41: 50.25 | AB41: 41.896296 | AC41: 5.5333333 | AD41: 2.3203704 | AE41: 5.4297023 | AF41: 2.5394717 | AG41: 4.0762183
B42: 4390 | C42: 29.87013 | D42: 4.5454545 | E42: 61.931818 | F42: 3.6525974 | G42: 0.64935065 | H42: 1.5422078 | I42: 1.461039 | J42: 4390 | K42: 27.840909 | L42: 2.4350649 | M42: 63.961039 | N42: 5.762987 | O42: 0 | P42: 2.1915584 | Q42: 3.5714286 | R42: 4390 | S42: 32.386364 | T42: 2.0292208 | U42: 54.301948 | V42: 11.282468 | W42: 1.2175325 | X42: 2.6785714 | Y42: 7.3863636 | Z42: 4390 | AA42: 28.011111 | AB42: 0 | AC42: 70.137037 | AD42: 1.8518519 | AE42: 3.8597959 | AF42: 0 | AG42: 6.4396172
B43: 4529 | C43: 0.071684588 | D43: 95.842294 | E43: 3.297491 | F43: 0.78853047 | G43: 0 | H43: 0 | I43: 0.78853047 | J43: 4529 | K43: 0.21505376 | L43: 96.774194 | M43: 3.0107527 | N43: 0 | O43: 0 | P43: 0 | Q43: 0 | R43: 4529 | S43: 0.21505376 | T43: 94.336918 | U43: 2.0071685 | V43: 3.4408602 | W43: 0.071684588 | X43: 2.7956989 | Y43: 0.5734767 | Z43: 4529 | AA43: 0 | AB43: 86.8 | AC43: 13.2 | AD43: 0
B44: 4587 | C44: 0.068027211 | D44: 0.74829932 | E44: 98.911565 | F44: 0.27210884 | G44: 0 | H44: 0 | I44: 0.27210884 | J44: 4587 | K44: 0.27210884 | L44: 1.0204082 | M44: 95.37415 | N44: 3.3333333 | O44: 0 | P44: 0 | Q44: 3.3333333 | R44: 4587 | S44: 0.13605442 | T44: 0.40816327 | U44: 94.829932 | V44: 4.6258503 | W44: 0 | X44: 0.40816327 | Y44: 4.2176871 | Z44: 4587 | AA44: 0.46481481 | AB44: 0.46666667 | AC44: 95.364815 | AD44: 3.7037037 | AE44: 0.32868153 | AF44: 0.65996633 | AG44: 5.1421888
B45: 4594 | C45: 0.066666667 | D45: 0 | E45: 99.866667 | F45: 0.066666667 | G45: 0 | H45: 0 | I45: 0.066666667 | J45: 4594 | K45: 0 | L45: 0.13333333 | M45: 99.866667 | N45: 0 | O45: 0 | P45: 0 | Q45: 0 | R45: 4594 | S45: 0.066666667 | T45: 0.066666667 | U45: 99.466667 | V45: 0.4 | W45: 0.066666667 | X45: 0 | Y45: 0.33333333 | Z45: 4594 | AA45: 0 | AB45: 0 | AC45: 100 | AD45: 0 | AE45: 0 | AF45: 0 | AG45: 0
B46: 4609 | C46: 2.8735632 | D46: 3.4482759 | E46: 91.954023 | F46: 1.7241379 | G46: 0 | H46: 0.50287356 | I46: 1.2212644 | J46: 4609 | K46: 2.658046 | L46: 3.8074713 | M46: 93.318966 | N46: 0.21551724 | O46: 0 | P46: 0.21551724 | Q46: 0 | R46: 4609 | S46: 3.1609195 | T46: 2.1551724 | U46: 89.152299 | V46: 5.5316092 | W46: 0.79022989 | X46: 1.2931034 | Y46: 3.4482759 | Z46: 4609 | AA46: 9.4796296 | AB46: 2.3333333 | AC46: 88.187037 | AD46: 0 | AE46: 1.421559 | AF46: 2.3795424 | AG46: 3.1651404
B47: 4610 | C47: 53.012048 | D47: 39.404678 | E47: 5.102764 | F47: 2.4805103 | G47: 0.070871722 | H47: 2.1261517 | I47: 0.28348689 | J47: 4610 | K47: 57.760454 | L47: 36.002835 | M47: 2.6222537 | N47: 3.6144578 | O47: 0 | P47: 0.21261517 | Q47: 3.4018427 | R47: 4610 | S47: 62.437987 | T47: 27.781715 | U47: 0.6378455 | V47: 9.1424522 | W47: 3.7562013 | X47: 3.7562013 | Y47: 1.6300496 | Z47: 4610 | AA47: 29.2 | AB47: 52.1 | AC47: 18.8 | AD47: 0
B48: 4612 | C48: 0.20833333 | D48: 0.625 | E48: 98.888889 | F48: 0.27777778 | G48: 0 | H48: 0.069444444 | I48: 0.20833333 | J48: 4612 | K48: 0.27777778 | L48: 1.5972222 | M48: 98.055556 | N48: 0.069444444 | O48: 0 | P48: 0.069444444 | Q48: 0 | R48: 4612 | S48: 0.27777778 | T48: 1.1111111 | U48: 94.305556 | V48: 4.3055556 | W48: 0.48611111 | X48: 0.76388889 | Y48: 3.0555556 | Z48: 4612 | AA48: 0 | AB48: 0 | AC48: 100 | AD48: 0 | AE48: 0 | AF48: 0 | AG48: 0
B49: 4628 | C49: 7.8503302 | D49: 8.4372707 | E49: 80.117388 | F49: 3.595011 | G49: 0.44020543 | H49: 0.88041086 | I49: 2.2743947 | J49: 4628 | K49: 5.9427733 | L49: 5.13573 | M49: 85.693324 | N49: 3.2281731 | O49: 0 | P49: 1.1005136 | Q49: 2.1276596 | R49: 4628 | S49: 7.0432869 | T49: 3.9618489 | U49: 73.587674 | V49: 15.40719 | W49: 2.8613353 | X49: 4.3286867 | Y49: 8.217168 | Z49: 4628 | AA49: 11.796296 | AB49: 0.46666667 | AC49: 87.737037 | AD49: 0 | AE49: 1.5070297 | AF49: 0.65996633 | AG49: 1.4341609
B50: 4632 | C50: 5.5512722 | D50: 8.7124133 | E50: 83.577487 | F50: 2.1588281 | G50: 0.154202 | H50: 0.30840401 | I50: 1.6962221 | J50: 4632 | K50: 4.0092521 | L50: 3.6237471 | M50: 92.058597 | N50: 0.30840401 | O50: 0 | P50: 0.30840401 | Q50: 0 | R50: 4632 | S50: 4.8573631 | T50: 3.2382421 | U50: 84.348497 | V50: 7.5558982 | W50: 1.387818 | X50: 2.0817271 | Y50: 4.0863531 | Z50: 4632 | AA50: 14.822222 | AB50: 0.23333333 | AC50: 84.944444 | AD50: 0 | AE50: 1.734259 | AF50: 0.32998316 | AG50: 1.4257768
B51: 4676 | C51: 75.223061 | D51: 14.687714 | E51: 7.8929307 | F51: 2.1962938 | G51: 0.3431709 | H51: 0.75497598 | I51: 1.0981469 | J51: 4676 | K51: 81.468771 | L51: 14.070007 | M51: 4.4612217 | N51: 0 | O51: 0 | P51: 0 | Q51: 0 | R51: 4676 | S51: 82.155113 | T51: 9.8833219 | U51: 1.3726836 | V51: 6.5888813 | W51: 3.1571723 | X51: 2.7453672 | Y51: 0.6863418 | Z51: 4676 | AA51: 65.3 | AB51: 28.5 | AC51: 6.3 | AD51: 0
B52: 4677 | C52: 20.364742 | D52: 24.924012 | E52: 49.240122 | F52: 5.4711246 | G52: 0.45592705 | H52: 1.9756839 | I52: 3.0395137 | J52: 4677 | K52: 18.617021 | L52: 24.240122 | M52: 56.762918 | N52: 0.37993921 | O52: 0 | P52: 0.37993921 | Q52: 0 | R52: 4677 | S52: 20.592705 | T52: 17.24924 | U52: 45.896657 | V52: 16.261398 | W52: 2.5835866 | X52: 6.6109422 | Y52: 7.0668693 | Z52: 4677 | AA52: 27.8 | AB52: 0 | AC52: 72.2 | AD52: 0
B53: 4682 | C53: 53.115942 | D53: 39.347826 | E53: 5.6521739 | F53: 1.884058 | G53: 0.072463768 | H53: 1.5942029 | I53: 0.2173913 | J53: 4682 | K53: 56.014493 | L53: 38.043478 | M53: 2.6086957 | N53: 3.3333333 | O53: 0 | P53: 0 | Q53: 3.3333333 | R53: 4682 | S53: 58.26087 | T53: 32.246377 | U53: 0.94202899 | V53: 8.5507246 | W53: 1.9565217 | X53: 4.1304348 | Y53: 2.4637681 | Z53: 4682 | AA53: 42.4 | AB53: 38.2 | AC53: 19.4 | AD53: 0
B54: 4691 | C54: 43.653705 | D54: 30.81438 | E54: 19.735877 | F54: 5.7960382 | G54: 0.73367572 | H54: 2.6412326 | I54: 2.4211299 | J54: 4691 | K54: 41.232575 | L54: 36.023478 | M54: 22.523844 | N54: 0.22010271 | O54: 0 | P54: 0.22010271 | Q54: 0 | R54: 4691 | S54: 43.2135 | T54: 24.211299 | U54: 10.418195 | V54: 22.157007 | W54: 9.3910492 | X54: 7.190022 | Y54: 5.5759354 | Z54: 4691 | AA54: 45.1 | AB54: 41.7 | AC54: 12.5 | AD54: 0.7
B55: 4743 | C55: 5.649303 | D55: 1.6140866 | E55: 91.8562 | F55: 0.88041086 | G55: 0 | H55: 0.22010271 | I55: 0.66030814 | J55: 4743 | K55: 8.2905356 | L55: 2.054292 | M55: 89.43507 | N55: 0.22010271 | O55: 0 | P55: 0.22010271 | Q55: 0 | R55: 4743 | S55: 7.4101247 | T55: 1.2472487 | U55: 83.712399 | V55: 7.6302274 | W55: 3.2281731 | X55: 0.513573 | Y55: 3.8884813 | Z55: 4743 | AA55: 33.07963 | AB55: 0.93148148 | AC55: 65.288889 | AD55: 0.7 | AE55: 9.4018367 | AF55: 0.8735521 | AG55: 8.1788496
B56: 4747 | C56: 10.194903 | D56: 1.7991004 | E56: 86.656672 | F56: 1.3493253 | G56: 0.14992504 | H56: 0.37481259 | I56: 0.82458771 | J56: 4747 | K56: 10.194903 | L56: 3.1484258 | M56: 83.133433 | N56: 3.5232384 | O56: 0 | P56: 0.074962519 | Q56: 3.4482759 | R56: 4747 | S56: 11.244378 | T56: 0.97451274 | U56: 75.337331 | V56: 12.443778 | W56: 2.6236882 | X56: 2.0989505 | Y56: 7.7211394 | Z56: 4747 | AA56: 31.718519 | AB56: 1.4 | AC56: 66.914815 | AD56: 0 | AE56: 9.9652331 | AF56: 1.5121728 | AG56: 8.5387827
B57: 4762 | C57: 52.73752 | D57: 1.3687601 | E57: 43.1562 | F57: 2.7375201 | G57: 0.32206119 | H57: 0.40257649 | I57: 2.0128824 | J57: 4762 | K57: 51.851852 | L57: 0.64412238 | M57: 46.698873 | N57: 0.80515298 | O57: 0 | P57: 0.80515298 | Q57: 0 | R57: 4762 | S57: 54.347826 | T57: 0.1610306 | U57: 34.702093 | V57: 10.78905 | W57: 4.5088567 | X57: 0.56360709 | Y57: 5.7165862 | Z57: 4762 | AA57: 47.011111 | AB57: 0.23333333 | AC57: 50.47037 | AD57: 2.3185185 | AE57: 8.2521527 | AF57: 0.32998316 | AG57: 10.213186
B58: 4767 | C58: 65.078236 | D58: 2.0625889 | E58: 30.440967 | F58: 2.4182077 | G58: 0.28449502 | H58: 0.42674253 | I58: 1.7069701 | J58: 4767 | K58: 60.312945 | L58: 1.8492176 | M58: 35.348506 | N58: 2.4893314 | O58: 0 | P58: 0.42674253 | Q58: 2.0625889 | R58: 4767 | S58: 65.811966 | T58: 1.1396011 | U58: 21.153846 | V58: 11.894587 | W58: 4.2735043 | X58: 0.85470085 | Y58: 6.7663818 | Z58: 4767 | AA58: 54.385185 | AB58: 0.23333333 | AC58: 43.761111 | AD58: 1.6203704 | AE58: 10.002725 | AF58: 0.32998316 | AG58: 12.012527
B59: 5115 | C59: 0.085470085 | D59: 97.692308 | E59: 1.8803419 | F59: 0.34188034 | G59: 0 | H59: 0 | I59: 0.34188034 | J59: 5115 | K59: 0.085470085 | L59: 97.179487 | M59: 2.6495726 | N59: 0.085470085 | O59: 0 | P59: 0.085470085 | Q59: 0 | R59: 5115 | S59: 0.085470085 | T59: 97.008547 | U59: 0.76923077 | V59: 2.1367521 | W59: 0.17094017 | X59: 1.2820513 | Y59: 0.68376068 | Z59: 5115 | AA59: 0 | AB59: 93.8 | AC59: 4.9 | AD59: 1.4
B60: 5118 | C60: 0 | D60: 95.791246 | E60: 3.7878788 | F60: 0.42087542 | G60: 0 | H60: 0.084175084 | I60: 0.33670034 | J60: 5118 | K60: 0 | L60: 95.454545 | M60: 2.2727273 | N60: 2.2727273 | O60: 0 | P60: 0 | Q60: 2.2727273 | R60: 5118 | S60: 0.16835017 | T60: 94.781145 | U60: 0.67340067 | V60: 4.3771044 | W60: 0 | X60: 1.4309764 | Y60: 2.9461279 | Z60: 5118 | AA60: 0 | AB60: 87.5 | AC60: 12.5 | AD60: 0
B61: 5121 | C61: 0 | D61: 95.7795 | E61: 3.2730405 | F61: 0.94745909 | G61: 0.086132644 | H61: 0 | I61: 0.86132644 | J61: 5121 | K61: 0.25839793 | L61: 95.176572 | M61: 4.5650301 | N61: 0 | O61: 0 | P61: 0 | Q61: 0 | R61: 5121 | S61: 0.25839793 | T61: 94.315245 | U61: 1.464255 | V61: 3.9621016 | W61: 0.34453058 | X61: 2.0671835 | Y61: 1.5503876 | Z61: 5121 | AA61: 0 | AB61: 89.6 | AC61: 10.4 | AD61: 0
B62: 5498 | C62: 34.702093 | D62: 62.399356 | E62: 0.40257649 | F62: 2.4959742 | G62: 0.32206119 | H62: 1.9323671 | I62: 0.24154589 | J62: 5498 | K62: 41.062802 | L62: 57.971014 | M62: 0.96618357 | N62: 0 | O62: 0 | P62: 0 | Q62: 0 | R62: 5498 | S62: 44.283414 | T62: 48.067633 | U62: 0.32206119 | V62: 7.3268921 | W62: 3.3011272 | X62: 3.9452496 | Y62: 0.080515298 | Z62: 5498 | AA62: 20.8 | AB62: 63.9 | AC62: 14.6 | AD62: 0.7
B63: 5501 | C63: 52.839506 | D63: 42.55144 | E63: 1.7283951 | F63: 2.8806584 | G63: 0.32921811 | H63: 1.9753086 | I63: 0.57613169 | J63: 5501 | K63: 50.37037 | L63: 47.078189 | M63: 2.5514403 | N63: 0 | O63: 0 | P63: 0 | Q63: 0 | R63: 5501 | S63: 54.238683 | T63: 35.967078 | U63: 0.41152263 | V63: 9.382716 | W63: 4.3621399 | X63: 4.691358 | Y63: 0.32921811 | Z63: 5501 | AA63: 29.9 | AB63: 56.9 | AC63: 13.2 | AD63: 0
B64: 5503 | C64: 48.400673 | D64: 48.737374 | E64: 0.33670034 | F64: 2.5252525 | G64: 0.16835017 | H64: 2.1043771 | I64: 0.25252525 | J64: 5503 | K64: 49.074074 | L64: 49.074074 | M64: 1.8518519 | N64: 0 | O64: 0 | P64: 0 | Q64: 0 | R64: 5503 | S64: 51.767677 | T64: 40.824916 | U64: 0.50505051 | V64: 6.9023569 | W64: 3.030303 | X64: 3.4511785 | Y64: 0.42087542 | Z64: 5503 | AA64: 34 | AB64: 49.3 | AC64: 13.9 | AD64: 2.8
B65: 5568 | C65: 95.031056 | D65: 1.1645963 | E65: 3.5714286 | F65: 0.23291925 | G65: 0 | H65: 0.23291925 | I65: 0 | J65: 5568 | K65: 95.652174 | L65: 0.77639752 | M65: 0 | N65: 3.5714286 | O65: 0 | P65: 0 | Q65: 3.5714286 | R65: 5568 | S65: 98.835404 | T65: 0.31055901 | U65: 0 | V65: 0.85403727 | W65: 0.1552795 | X65: 0.31055901 | Y65: 0.38819876 | Z65: 5568 | AA65: 62.27037 | AB65: 27.535185 | AC65: 5.3333333 | AD65: 4.8611111 | AE65: 1.6473032 | AF65: 3.6263279 | AG65: 5.6788105
B66: 5571 | C66: 98.492063 | D66: 1.3492063 | E66: 0 | F66: 0.15873016 | G66: 0 | H66: 0.15873016 | I66: 0 | J66: 5571 | K66: 98.730159 | L66: 1.2698413 | M66: 0 | N66: 0 | O66: 0 | P66: 0 | Q66: 0 | R66: 5571 | S66: 98.968254 | T66: 0.71428571 | U66: 0 | V66: 0.31746032 | W66: 0.23809524 | X66: 0.079365079 | Y66: 0 | Z66: 5571 | AA66: 67.153704 | AB66: 19.65 | AC66: 8.5666667 | AD66: 4.6296296 | AE66: 1.4363759 | AF66: 0.85537516 | AG66: 6.3793068
B67: 5576 | C67: 97.011102 | D67: 2.3057216 | E67: 0.085397096 | F67: 0.59777968 | G67: 0.085397096 | H67: 0.51238258 | I67: 0 | J67: 5576 | K67: 98.462852 | L67: 1.4517506 | M67: 0 | N67: 0.085397096 | O67: 0 | P67: 0 | Q67: 0.085397096 | R67: 5576 | S67: 98.462852 | T67: 0.76857387 | U67: 0 | V67: 0.76857387 | W67: 0.42698548 | X67: 0.25619129 | Y67: 0.085397096 | Z67: 5576 | AA67: 55.6 | AB67: 21.5 | AC67: 20.1 | AD67: 2.8
B68: 5578 | C68: 98.621878 | D68: 1.1197244 | E68: 0 | F68: 0.25839793 | G68: 0 | H68: 0.25839793 | I68: 0 | J68: 5578 | K68: 99.224806 | L68: 0.68906115 | M68: 0.086132644 | N68: 0 | O68: 0 | P68: 0 | Q68: 0 | R68: 5578 | S68: 99.310939 | T68: 0.25839793 | U68: 0 | V68: 0.43066322 | W68: 0.17226529 | X68: 0.25839793 | Y68: 0 | Z68: 5578 | AA68: 62.5 | AB68: 20.8 | AC68: 14.6 | AD68: 2.1
B69: 5631 | C69: 0 | D69: 94.181034 | E69: 4.9568966 | F69: 0.86206897 | G69: 0 | H69: 0.07183908 | I69: 0.79022989 | J69: 5631 | K69: 0.07183908 | L69: 95.33046 | M69: 4.5977011 | N69: 0 | O69: 0 | P69: 0 | Q69: 0 | R69: 5631 | S69: 0.07183908 | T69: 92.456897 | U69: 3.2327586 | V69: 4.2385057 | W69: 0.07183908 | X69: 2.658046 | Y69: 1.5086207 | Z69: 5631 | AA69: 0 | AB69: 76.4 | AC69: 23.6 | AD69: 0
B70: 5680 | C70: 59.242021 | D70: 39.029255 | E70: 0.066489362 | F70: 1.662234 | G70: 0 | H70: 1.5292553 | I70: 0.13297872 | J70: 5680 | K70: 63.49734 | L70: 35.37234 | M70: 1.1303191 | N70: 0 | O70: 0 | P70: 0 | Q70: 0 | R70: 5680 | S70: 65.890957 | T70: 28.723404 | U70: 0.066489362 | V70: 5.3191489 | W70: 1.9946809 | X70: 3.125 | Y70: 0.19946809 | Z70: 5680 | AA70: 38.9 | AB70: 46.5 | AC70: 14.6 | AD70: 0
B71: 5683 | C71: 72.365805 | D71: 25.579854 | E71: 0.33134526 | F71: 1.7229954 | G71: 0.066269052 | H71: 1.1265739 | I71: 0.53015242 | J71: 5683 | K71: 73.227303 | L71: 25.579854 | M71: 1.1265739 | N71: 0.066269052 | O71: 0 | P71: 0.066269052 | Q71: 0 | R71: 5683 | S71: 74.81776 | T71: 21.338635 | U71: 0.1325381 | V71: 3.7110669 | W71: 1.325381 | X71: 2.1868787 | Y71: 0.19880716 | Z71: 5683 | AA71: 51.4 | AB71: 35.4 | AC71: 13.2 | AD71: 0
B72: 5864 | C72: 0 | D72: 97.735849 | E72: 2.2641509 | F72: 0 | G72: 0 | H72: 0 | I72: 0 | J72: 5864 | K72: 0.22641509 | L72: 97.132075 | M72: 0.75471698 | N72: 1.8867925 | O72: 0 | P72: 0 | Q72: 1.8867925 | R72: 5864 | S72: 0.45283019 | T72: 97.056604 | U72: 0.22641509 | V72: 2.2641509 | W72: 0 | X72: 0.37735849 | Y72: 1.8867925 | Z72: 5864 | AA72: 0 | AB72: 87.5 | AC72: 12.5 | AD72: 0
B73: 5904 | C73: 42.587601 | D73: 55.525606 | E73: 0.26954178 | F73: 1.6172507 | G73: 0 | H73: 1.5498652 | I73: 0.067385445 | J73: 5904 | K73: 51.212938 | L73: 48.382749 | M73: 0.33692722 | N73: 0.067385445 | O73: 0 | P73: 0.067385445 | Q73: 0 | R73: 5904 | S73: 52.088949 | T73: 40.498652 | U73: 0 | V73: 7.4123989 | W73: 3.4366577 | X73: 3.7735849 | Y73: 0.20215633 | Z73: 5904 | AA73: 24.3 | AB73: 51.4 | AC73: 24.3 | AD73: 0
B74: 5908 | C74: 15.793103 | D74: 80.827586 | E74: 1.7241379 | F74: 1.6551724 | G74: 0.34482759 | H74: 0.96551724 | I74: 0.34482759 | J74: 5908 | K74: 20.344828 | L74: 78.137931 | M74: 1.5172414 | N74: 0 | O74: 0 | P74: 0 | Q74: 0 | R74: 5908 | S74: 21.517241 | T74: 72.137931 | U74: 0.4137931 | V74: 5.9310345 | W74: 1.5172414 | X74: 4.137931 | Y74: 0.27586207 | Z74: 5908 | AA74: 24.3 | AB74: 63.9 | AC74: 11.8 | AD74: 0
B75: 5916 | C75: 20.102715 | D75: 74.468085 | E75: 3.9618489 | F75: 1.4673514 | G75: 0.073367572 | H75: 1.1005136 | I75: 0.29347029 | J75: 5916 | K75: 24.064563 | L75: 71.60675 | M75: 4.1819516 | N75: 0.14673514 | O75: 0 | P75: 0.14673514 | Q75: 0 | R75: 5916 | S75: 25.38518 | T75: 64.783566 | U75: 3.3015407 | V75: 6.5297139 | W75: 2.2010271 | X75: 3.8884813 | Y75: 0.44020543 | Z75: 5916 | AA75: 19 | AB75: 61 | AC75: 20 | AD75: 0

Sheet differences and Rsq
A1: Image
B2: Image_num | C2: ='Alg values and Manual values'!B1 -> KNN | F2: ='Alg values and Manual values'!J1 -> Tree | I2: ='Alg values and Manual values'!R1 -> ENS | S2: Average differences | W2: average deviation of manual
A3: 0274.JPG | B3: 274 | C3: =ABS('Alg values and Manual values'!C3-'Alg values and Manual values'!AA3) -> 26.154987 | D3: =ABS('Alg values and Manual values'!D3-'Alg values and Manual values'!AB3) -> 38.237197 | E3: =ABS('Alg values and Manual values'!E3-'Alg values and Manual values'!AC3) -> 10.353908 | F3: =ABS('Alg values and Manual values'!K3-'Alg values and Manual values'!AA3) -> 27.01752 | G3: =ABS('Alg values and Manual values'!L3-'Alg values and Manual values'!AB3) -> 30.743935 | H3: =ABS('Alg values and Manual values'!M3-'Alg values and Manual values'!AC3) -> 6.5264151 | I3: =ABS('Alg values and Manual values'!S3-'Alg values and Manual values'!AA3) -> 30.198113 | J3: =ABS('Alg values and Manual values'!T3-'Alg values and Manual values'!AB3) -> 39.423181 | K3: =ABS('Alg values and Manual values'!U3-'Alg values and Manual values'!AC3) -> 3.6622642 | L3: 0 | R3: Grass | S3: straw | T3: soil | U3: average | W3: Grass | X3: straw | Y3: soil
A4: 0290.JPG | B4: 290 | C4: =ABS('Alg values and Manual values'!C4-'Alg values and Manual values'!AA4) -> 12.106499 | D4: =ABS('Alg values and Manual values'!D4-'Alg values and Manual values'!AB4) -> 0.25849057 | E4: =ABS('Alg values and Manual values'!E4-'Alg values and Manual values'!AC4) -> 17.60608 | F4: =ABS('Alg values and Manual values'!K4-'Alg values and Manual values'!AA4) -> 11.058281 | G4: =ABS('Alg values and Manual values'!L4-'Alg values and Manual values'!AB4) -> 3.770021 | H4: =ABS('Alg values and Manual values'!M4-'Alg values and Manual values'!AC4) -> 14.828302 | I4: =ABS('Alg values and Manual values'!S4-'Alg values and Manual values'!AA4) -> 12.15891 | J4: =ABS('Alg values and Manual values'!T4-'Alg values and Manual values'!AB4) -> 0.93983229 | K4: =ABS('Alg values and Manual values'!U4-'Alg values and Manual values'!AC4) -> 38.622851 | L4: 0 | O4: KNN vs tree | Q4: TREE only multi | R4: =AVERAGE(F5,F7:F8,F14,F17,F19,F30,F37:F39,F42:F47,F50:F51,F53:F55,F58,F61:F62,F64:F67,F73:F74) -> 11.882515 | S4: =AVERAGE(G5,G7:G8,G14,G17,G19,G30,G37:G39,G42:G47,G50:G51,G53:G55,G58,G61:G62,G64:G67,G73:G74) -> 7.676502 | T4: =AVERAGE(H5,H7:H8,H14,H17,H19,H30,H37:H39,H42:H47,H50:H51,H53:H55,H58,H61:H62,H64:H67,H73:H74) -> 7.8350954 | U4: =AVERAGE(R4:T4) -> 9.1313708 | W4: 3.644897 | X4: 1.9871775 | Y4: 4.3197928
A5: 0310.JPG | B5: 310 | C5: =ABS('Alg values and Manual values'!C5-'Alg values and Manual values'!AA5) -> 2.1297619 | D5: =ABS('Alg values and Manual values'!D5-'Alg values and Manual values'!AB5) -> 0.21164021 | E5: =ABS('Alg values and Manual values'!E5-'Alg values and Manual values'!AC5) -> 3.153836 | F5: =ABS('Alg values and Manual values'!K5-'Alg values and Manual values'!AA5) -> 1.4948413 | G5: =ABS('Alg values and Manual values'!L5-'Alg values and Manual values'!AB5) -> 0.21164021 | H5: =ABS('Alg values and Manual values'!M5-'Alg values and Manual values'!AC5) -> 0.17949735 | I5: =ABS('Alg values and Manual values'!S5-'Alg values and Manual values'!AA5) -> 1.5477513 | J5: =ABS('Alg values and Manual values'!T5-'Alg values and Manual values'!AB5) -> 0.10582011 | K5: =ABS('Alg values and Manual values'!U5-'Alg values and Manual values'!AC5) -> 1.0260582 | L5: 2.8571429 | N5: same | O5: tree<KNN | P5: same | Q5: Tree | R5: =AVERAGE(F3:F75) -> 10.466535 | S5: =AVERAGE(G3:G75) -> 7.6895081 | T5: =AVERAGE(H3:H75) -> 7.5787666 | U5: =AVERAGE(R5:T5) -> 8.5782699
A6: 0331.JPG | B6: 331 | C6: =ABS('Alg values and Manual values'!C6-'Alg values and Manual values'!AA6) -> 0.7 | D6: =ABS('Alg values and Manual values'!D6-'Alg values and Manual values'!AB6) -> 0.94835165 | E6: =ABS('Alg values and Manual values'!E6-'Alg values and Manual values'!AC6) -> 0.17692308 | F6: =ABS('Alg values and Manual values'!K6-'Alg values and Manual values'!AA6) -> 0.63131868 | G6: =ABS('Alg values and Manual values'!L6-'Alg values and Manual values'!AB6) -> 1.4978022 | H6: =ABS('Alg values and Manual values'!M6-'Alg values and Manual values'!AC6) -> 0.16648352 | I6: =ABS('Alg values and Manual values'!S6-'Alg values and Manual values'!AA6) -> 0.63131868 | J6: =ABS('Alg values and Manual values'!T6-'Alg values and Manual values'!AB6) -> 1.7725275 | K6: =ABS('Alg values and Manual values'!U6-'Alg values and Manual values'!AC6) -> 2.3642857 | L6: 0 | N6: =_xlfn.T.TEST(C3:C75,F3:F75,1,1) -> 0.29907708 | O6: =_xlfn.T.TEST(D3:D75,G3:G75,1,1) -> 0.11727569 | P6: =_xlfn.T.TEST(E3:E75,H3:H75,1,1) -> 0.029439893 | Q6: ENS | R6: =AVERAGE(I3:I75) -> 11.007698 | S6: =AVERAGE(J3:J75) -> 8.052317 | T6: =AVERAGE(K3:K75) -> 10.118518 | U6: =AVERAGE(R6:T6) -> 9.7261777
A7: 0339.JPG | B7: 339 | C7: =ABS('Alg values and Manual values'!C7-'Alg values and Manual values'!AA7) -> 0.46724942 | D7: =ABS('Alg values and Manual values'!D7-'Alg values and Manual values'!AB7) -> 0.11655012 | E7: =ABS('Alg values and Manual values'!E7-'Alg values and Manual values'!AC7) -> 2.7205517 | F7: =ABS('Alg values and Manual values'!K7-'Alg values and Manual values'!AA7) -> 0.057226107 | G7: =ABS('Alg values and Manual values'!L7-'Alg values and Manual values'!AB7) -> 0.34965035 | H7: =ABS('Alg values and Manual values'!M7-'Alg values and Manual values'!AC7) -> 2.3126263 | I7: =ABS('Alg values and Manual values'!S7-'Alg values and Manual values'!AA7) -> 0.17377622 | J7: =ABS('Alg values and Manual values'!T7-'Alg values and Manual values'!AB7) -> 0.29137529 | K7: =ABS('Alg values and Manual values'!U7-'Alg values and Manual values'!AC7) -> 1.08885 | L7: 0.058275058 | O7: KNN vs ENS
A8: 0554.JPG | B8: 554 | C8: =ABS('Alg values and Manual values'!C8-'Alg values and Manual values'!AA8) -> 2.8582041 | D8: =ABS('Alg values and Manual values'!D8-'Alg values and Manual values'!AB8) -> 5.3 | E8: =ABS('Alg values and Manual values'!E8-'Alg values and Manual values'!AC8) -> 2.0393411 | F8: =ABS('Alg values and Manual values'!K8-'Alg values and Manual values'!AA8) -> 2.6721576 | G8: =ABS('Alg values and Manual values'!L8-'Alg values and Manual values'!AB8) -> 5.4395349 | H8: =ABS('Alg values and Manual values'!M8-'Alg values and Manual values'!AC8) -> 0.56531008 | I8: =ABS('Alg values and Manual values'!S8-'Alg values and Manual values'!AA8) -> 0.63016796 | J8: =ABS('Alg values and Manual values'!T8-'Alg values and Manual values'!AB8) -> 2.5093023 | K8: =ABS('Alg values and Manual values'!U8-'Alg values and Manual values'!AC8) -> 9.5277132 | L8: 0.13953488 | N8: KNN<ENS | O8: same | P8: same | R8: Grass | S8: straw | T8: soil | U8: average
A9: 0565.JPG | B9: 565 | C9: =ABS('Alg values and Manual values'!C9-'Alg values and Manual values'!AA9) -> 4.4190476 | D9: =ABS('Alg values and Manual values'!D9-'Alg values and Manual values'!AB9) -> 0.10238095 | E9: =ABS('Alg values and Manual values'!E9-'Alg values and Manual values'!AC9) -> 2.8880952 | F9: =ABS('Alg values and Manual values'!K9-'Alg values and Manual values'!AA9) -> 3.8238095 | G9: =ABS('Alg values and Manual values'!L9-'Alg values and Manual values'!AB9) -> 1.4714286 | H9: =ABS('Alg values and Manual values'!M9-'Alg values and Manual values'!AC9) -> 2.2928571 | I9: =ABS('Alg values and Manual values'!S9-'Alg values and Manual values'!AA9) -> 1.9190476 | J9: =ABS('Alg values and Manual values'!T9-'Alg values and Manual values'!AB9) -> 0.016666667 | K9: =ABS('Alg values and Manual values'!U9-'Alg values and Manual values'!AC9) -> 4.85 | L9: 0.05952381 | N9: =_xlfn.T.TEST(C3:C75,I3:I75,1,1) -> 0.052576174 | O9: =_xlfn.T.TEST(D3:D75,J3:J75,1,1) -> 0.46190069 | P9: =_xlfn.T.TEST(E3:E75,K3:K75,1,1) -> 0.0023349329 | Q9: ='Alg values and Manual values'!B1 -> KNN | R9: ='Alg values and Manual values'!C1 -> 0.85185614 | S9: ='Alg values and Manual values'!D1 -> 0.83712444 | T9: ='Alg values and Manual values'!E1 -> 0.93397474 | U9: =AVERAGE(R9:T9) -> 0.87431844
A10: 0574.JPG | B10: 574 | C10: =ABS('Alg values and Manual values'!C10-'Alg values and Manual values'!AA10) -> 10.318301 | D10: =ABS('Alg values and Manual values'!D10-'Alg values and Manual values'!AB10) -> 4.4062092 | E10: =ABS('Alg values and Manual values'!E10-'Alg values and Manual values'!AC10) -> 17.583987 | F10: =ABS('Alg values and Manual values'!K10-'Alg values and Manual values'!AA10) -> 9.0519608 | G10: =ABS('Alg values and Manual values'!L10-'Alg values and Manual values'!AB10) -> 6.5303922 | H10: =ABS('Alg values and Manual values'!M10-'Alg values and Manual values'!AC10) -> 15.582353 | I10: =ABS('Alg values and Manual values'!S10-'Alg values and Manual values'!AA10) -> 13.136928 | J10: =ABS('Alg values and Manual values'!T10-'Alg values and Manual values'!AB10) -> 4.0385621 | K10: =ABS('Alg values and Manual values'!U10-'Alg values and Manual values'!AC10) -> 26.979412 | L10: 0 | O10: Tree vs ENS | Q10: ='Alg values and Manual values'!J1 -> Tree | R10: ='Alg values and Manual values'!K1 -> 0.85601737 | S10: ='Alg values and Manual values'!L1 -> 0.85628145 | T10: ='Alg values and Manual values'!M1 -> 0.95493456 | U10: =AVERAGE(R10:T10) -> 0.88907779
A11: 0584.JPG | B11: 584 | C11: =ABS('Alg values and Manual values'!C11-'Alg values and Manual values'!AA11) -> 21.040981 | D11: =ABS('Alg values and Manual values'!D11-'Alg values and Manual values'!AB11) -> 0.42275299 | E11: =ABS('Alg values and Manual values'!E11-'Alg values and Manual values'!AC11) -> 22.972219 | F11: =ABS('Alg values and Manual values'!K11-'Alg values and Manual values'!AA11) -> 23.743683 | G11: =ABS('Alg values and Manual values'!L11-'Alg values and Manual values'!AB11) -> 2.1197989 | H11: =ABS('Alg values and Manual values'!M11-'Alg values and Manual values'!AC11) -> 25.863482 | I11: =ABS('Alg values and Manual values'!S11-'Alg values and Manual values'!AA11) -> 24.309365 | J11: =ABS('Alg values and Manual values'!T11-'Alg values and Manual values'!AB11) -> 0.48560654 | K11: =ABS('Alg values and Manual values'!U11-'Alg values and Manual values'!AC11) -> 30.326084 | L11: 0 | N11: tree<ENS | O11: same | P11: ENS<tree | Q11: ='Alg values and Manual values'!R1 -> ENS | R11: ='Alg values and Manual values'!S1 -> 0.85029041 | S11: ='Alg values and Manual values'!T1 -> 0.841246 | T11: ='Alg values and Manual values'!U1 -> 0.93918844 | U11: =AVERAGE(R11:T11) -> 0.87690828
A12: 0729.JPG | B12: 729 | C12: =ABS('Alg values and Manual values'!C12-'Alg values and Manual values'!AA12) -> 19.492857 | D12: =ABS('Alg values and Manual values'!D12-'Alg values and Manual values'!AB12) -> 35.17619 | E12: =ABS('Alg values and Manual values'!E12-'Alg values and Manual values'!AC12) -> 15.909524 | F12: =ABS('Alg values and Manual values'!K12-'Alg values and Manual values'!AA12) -> 31.754762 | G12: =ABS('Alg values and Manual values'!L12-'Alg values and Manual values'!AB12) -> 29.759524 | H12: =ABS('Alg values and Manual values'!M12-'Alg values and Manual values'!AC12) -> 1.5047619 | I12: =ABS('Alg values and Manual values'!S12-'Alg values and Manual values'!AA12) -> 32.230952 | J12: =ABS('Alg values and Manual values'!T12-'Alg values and Manual values'!AB12) -> 33.45 | K12: =ABS('Alg values and Manual values'!U12-'Alg values and Manual values'!AC12) -> 5.9952381 | L12: 0 | N12: =_xlfn.T.TEST(F3:F75,I3:I75,1,1) -> 0.005025897 | O12: =_xlfn.T.TEST(G3:G75,J3:J75,1,1) -> 0.24403678 | P12: =_xlfn.T.TEST(H3:H75,K3:K75,1,1) -> 7.9039308e-05
A13: 0743.JPG | B13: 743 | C13: =ABS('Alg values and Manual values'!C13-'Alg values and Manual values'!AA13) -> 6.9191721 | D13: =ABS('Alg values and Manual values'!D13-'Alg values and Manual values'!AB13) -> 3.6492375 | E13: =ABS('Alg values and Manual values'!E13-'Alg values and Manual values'!AC13) -> 1.7448802 | F13: =ABS('Alg values and Manual values'!K13-'Alg values and Manual values'!AA13) -> 2.7797386 | G13: =ABS('Alg values and Manual values'!L13-'Alg values and Manual values'!AB13) -> 7.8431373 | H13: =ABS('Alg values and Manual values'!M13-'Alg values and Manual values'!AC13) -> 5.0633987 | I13: =ABS('Alg values and Manual values'!S13-'Alg values and Manual values'!AA13) -> 1.1457516 | J13: =ABS('Alg values and Manual values'!T13-'Alg values and Manual values'!AB13) -> 5.0653595 | K13: =ABS('Alg values and Manual values'!U13-'Alg values and Manual values'!AC13) -> 14.159259 | L13: 0
A14: 0754.JPG | B14: 754 | C14: =ABS('Alg values and Manual values'!C14-'Alg values and Manual values'!AA14) -> 4.8395822 | D14: =ABS('Alg values and Manual values'!D14-'Alg values and Manual values'!AB14) -> 0.49790673 | E14: =ABS('Alg values and Manual values'!E14-'Alg values and Manual values'!AC14) -> 3.9177221 | F14: =ABS('Alg values and Manual values'!K14-'Alg values and Manual values'!AA14) -> 1.9249028 | G14: =ABS('Alg values and Manual values'!L14-'Alg values and Manual values'!AB14) -> 0.81587175 | H14: =ABS('Alg values and Manual values'!M14-'Alg values and Manual values'!AC14) -> 0.85175322 | I14: =ABS('Alg values and Manual values'!S14-'Alg values and Manual values'!AA14) -> 0.97100777 | J14: =ABS('Alg values and Manual values'!T14-'Alg values and Manual values'!AB14) -> 0.39191839 | K14: =ABS('Alg values and Manual values'!U14-'Alg values and Manual values'!AC14) -> 5.7802111 | L14: 1.9607843
A15: 0767.JPG | B15: 767 | C15: =ABS('Alg values and Manual values'!C15-'Alg values and Manual values'!AA15) -> 3.4634561 | D15: =ABS('Alg values and Manual values'!D15-'Alg values and Manual values'!AB15) -> 0.67988669 | E15: =ABS('Alg values and Manual values'!E15-'Alg values and Manual values'!AC15) -> 2.5569405 | F15: =ABS('Alg values and Manual values'!K15-'Alg values and Manual values'!AA15) -> 3.1235127 | G15: =ABS('Alg values and Manual values'!L15-'Alg values and Manual values'!AB15) -> 0.9631728 | H15: =ABS('Alg values and Manual values'!M15-'Alg values and Manual values'!AC15) -> 2.1603399 | I15: =ABS('Alg values and Manual values'!S15-'Alg values and Manual values'!AA15) -> 3.0101983 | J15: =ABS('Alg values and Manual values'!T15-'Alg values and Manual values'!AB15) -> 0.84985836 | K15: =ABS('Alg values and Manual values'!U15-'Alg values and Manual values'!AC15) -> 0.80056657 | L15: 0
A16: 0779.JPG | B16: 779 | C16: =ABS('Alg values and Manual values'!C16-'Alg values and Manual values'!AA16) -> 3.618858 | D16: =ABS('Alg values and Manual values'!D16-'Alg values and Manual values'!AB16) -> 1.1524358 | E16: =ABS('Alg values and Manual values'!E16-'Alg values and Manual values'!AC16) -> 1.7854374 | F16: =ABS('Alg values and Manual values'!K16-'Alg values and Manual values'!AA16) -> 3.5664746 | G16: =ABS('Alg values and Manual values'!L16-'Alg values and Manual values'!AB16) -> 0.83813515 | H16: =ABS('Alg values and Manual values'!M16-'Alg values and Manual values'!AC16) -> 2.7283394 | I16: =ABS('Alg values and Manual values'!S16-'Alg values and Manual values'!AA16) -> 1.2092195 | J16: =ABS('Alg values and Manual values'!T16-'Alg values and Manual values'!AB16) -> 0.52383447 | K16: =ABS('Alg values and Manual values'!U16-'Alg values and Manual values'!AC16) -> 2.4576218 | L16: 0
A17: 1208.JPG | B17: 1208 | C17: =ABS('Alg values and Manual values'!C17-'Alg values and Manual values'!AA17) -> 28.49639 | D17: =ABS('Alg values and Manual values'!D17-'Alg values and Manual values'!AB17) -> 23.498782 | E17: =ABS('Alg values and Manual values'!E17-'Alg values and Manual values'!AC17) -> 0.75295603 | F17: =ABS('Alg values and Manual values'!K17-'Alg values and Manual values'!AA17) -> 30.858244 | G17: =ABS('Alg values and Manual values'!L17-'Alg values and Manual values'!AB17) -> 28.489869 | H17: =ABS('Alg values and Manual values'!M17-'Alg values and Manual values'!AC17) -> 4.4517083 | I17: =ABS('Alg values and Manual values'!S17-'Alg values and Manual values'!AA17) -> 28.63008 | J17: =ABS('Alg values and Manual values'!T17-'Alg values and Manual values'!AB17) -> 19.309834 | K17: =ABS('Alg values and Manual values'!U17-'Alg values and Manual values'!AC17) -> 8.649896 | L17: 0
A18: 1214.JPG | B18: 1214 | C18: =ABS('Alg values and Manual values'!C18-'Alg values and Manual values'!AA18) -> 44.261873 | D18: =ABS('Alg values and Manual values'!D18-'Alg values and Manual values'!AB18) -> 34.341918 | E18: =ABS('Alg values and Manual values'!E18-'Alg values and Manual values'!AC18) -> 5.1130435 | F18: =ABS('Alg values and Manual values'!K18-'Alg values and Manual values'!AA18) -> 28.98874 | G18: =ABS('Alg values and Manual values'!L18-'Alg values and Manual values'!AB18) -> 25.311817 | H18: =ABS('Alg values and Manual values'!M18-'Alg values and Manual values'!AC18) -> 4.0539576 | I18: =ABS('Alg values and Manual values'!S18-'Alg values and Manual values'!AA18) -> 31.775808 | J18: =ABS('Alg values and Manual values'!T18-'Alg values and Manual values'!AB18) -> 16.504682 | K18: =ABS('Alg values and Manual values'!U18-'Alg values and Manual values'!AC18) -> 3.6940914 | L18: 0.22296544
A19: 1221.JPG | B19: 1221 | C19: =ABS('Alg values and Manual values'!C19-'Alg values and Manual values'!AA19) -> 14.44386 | D19: =ABS('Alg values and Manual values'!D19-'Alg values and Manual values'!AB19) -> 23.684127 | E19: =ABS('Alg values and Manual values'!E19-'Alg values and Manual values'!AC19) -> 9.0781455 | F19: =ABS('Alg values and Manual values'!K19-'Alg values and Manual values'!AA19) -> 12.177314 | G19: =ABS('Alg values and Manual values'!L19-'Alg values and Manual values'!AB19) -> 26.358651 | H19: =ABS('Alg values and Manual values'!M19-'Alg values and Manual values'!AC19) -> 9.6674474 | I19: =ABS('Alg values and Manual values'!S19-'Alg values and Manual values'!AA19) -> 10.273416 | J19: =ABS('Alg values and Manual values'!T19-'Alg values and Manual values'!AB19) -> 16.975151 | K19: =ABS('Alg values and Manual values'!U19-'Alg values and Manual values'!AC19) -> 14.608517 | L19: 0
A20: 1228.JPG | B20: 1228 | C20: =ABS('Alg values and Manual values'!C20-'Alg values and Manual values'!AA20) -> 6.6084881 | D20: =ABS('Alg values and Manual values'!D20-'Alg values and Manual values'!AB20) -> 7.0156499 | E20: =ABS('Alg values and Manual values'!E20-'Alg values and Manual values'!AC20) -> 1.9822281 | F20: =ABS('Alg values and Manual values'!K20-'Alg values and Manual values'!AA20) -> 0.34111406 | G20: =ABS('Alg values and Manual values'!L20-'Alg values and Manual values'!AB20) -> 3.0899204 | H20: =ABS('Alg values and Manual values'!M20-'Alg values and Manual values'!AC20) -> 2.8310345 | I20: =ABS('Alg values and Manual values'!S20-'Alg values and Manual values'!AA20) -> 1.6143236 | J20: =ABS('Alg values and Manual values'!T20-'Alg values and Manual values'!AB20) -> 1.0480106 | K20: =ABS('Alg values and Manual values'!U20-'Alg values and Manual values'!AC20) -> 4.1572944 | L20: 0
A21: 1240.JPG | B21: 1240 | C21: =ABS('Alg values and Manual values'!C21-'Alg values and Manual values'!AA21) -> 7.1691996 | D21: =ABS('Alg values and Manual values'!D21-'Alg values and Manual values'!AB21) -> 2.9726444 | E21: =ABS('Alg values and Manual values'!E21-'Alg values and Manual values'!AC21) -> 6.8946302 | F21: =ABS('Alg values and Manual values'!K21-'Alg values and Manual values'!AA21) -> 6.5106383 | G21: =ABS('Alg values and Manual values'!L21-'Alg values and Manual values'!AB21) -> 0.16818642 | H21: =ABS('Alg values and Manual values'!M21-'Alg values and Manual values'!AC21) -> 5.6788247 | I21: =ABS('Alg values and Manual values'!S21-'Alg values and Manual values'!AA21) -> 8.0303951 | J21: =ABS('Alg values and Manual values'!T21-'Alg values and Manual values'!AB21) -> 5.7082067 | K21: =ABS('Alg values and Manual values'!U21-'Alg values and Manual values'!AC21) -> 11.048632 | L21: 0
A22: 2157.JPG | B22: 2271 | C22: =ABS('Alg values and Manual values'!C22-'Alg values and Manual values'!AA22) -> 9.261249 | D22: =ABS('Alg values and Manual values'!D22-'Alg values and Manual values'!AB22) -> 4.5041765 | E22: =ABS('Alg values and Manual values'!E22-'Alg values and Manual values'!AC22) -> 1.2089046 | F22: =ABS('Alg values and Manual values'!K22-'Alg values and Manual values'!AA22) -> 9.1947597 | G22: =ABS('Alg values and Manual values'!L22-'Alg values and Manual values'!AB22) -> 3.1078999 | H22: =ABS('Alg values and Manual values'!M22-'Alg values and Manual values'!AC22) -> 1.1424153 | I22: =ABS('Alg values and Manual values'!S22-'Alg values and Manual values'!AA22) -> 10.989972 | J22: =ABS('Alg values and Manual values'!T22-'Alg values and Manual values'!AB22) -> 5.0360914 | K22: =ABS('Alg values and Manual values'!U22-'Alg values and Manual values'!AC22) -> 4.6663515 | L22: 0
A23: 2162.JPG | B23: 2717 | C23: =ABS('Alg values and Manual values'!C23-'Alg values and Manual values'!AA23) -> 0.82553191 | D23: =ABS('Alg values and Manual values'!D23-'Alg values and Manual values'!AB23) -> 5.4227964 | E23: =ABS('Alg values and Manual values'!E23-'Alg values and Manual values'!AC23) -> 4.7133739 | F23: =ABS('Alg values and Manual values'!K23-'Alg values and Manual values'!AA23) -> 7.5027356 | G23: =ABS('Alg values and Manual values'!L23-'Alg values and Manual values'!AB23) -> 1.8112462 | H23: =ABS('Alg values and Manual values'!M23-'Alg values and Manual values'!AC23) -> 1.7954407 | I23: =ABS('Alg values and Manual values'!S23-'Alg values and Manual values'!AA23) -> 9.8735562 | J23: =ABS('Alg values and Manual values'!T23-'Alg values and Manual values'!AB23) -> 9.4708207 | K23: =ABS('Alg values and Manual values'!U23-'Alg values and Manual values'!AC23) -> 6.0507599 | L23: 0.30395137
A24: 2167.JPG | B24: 2794 | C24: =ABS('Alg values and Manual values'!C24-'Alg values and Manual values'!AA24) -> 10.211111 | D24: =ABS('Alg values and Manual values'!D24-'Alg values and Manual values'!AB24) -> 2.2 | E24: =ABS('Alg values and Manual values'!E24-'Alg values and Manual values'!AC24) -> 4.7981481 | F24: =ABS('Alg values and Manual values'!K24-'Alg values and Manual values'!AA24) -> 11.611111 | G24: =ABS('Alg values and Manual values'!L24-'Alg values and Manual values'!AB24) -> 2.2 | H24: =ABS('Alg values and Manual values'!M24-'Alg values and Manual values'!AC24) -> 5.9314815 | I24: =ABS('Alg values and Manual values'!S24-'Alg values and Manual values'!AA24) -> 11.744444 | J24: =ABS('Alg values and Manual values'!T24-'Alg values and Manual values'!AB24) -> 2.2666667 | K24: =ABS('Alg values and Manual values'!U24-'Alg values and Manual values'!AC24) -> 6.3981481 | L24: 0
... A75: 5576.JPG | B75: 5916 | C75: =ABS('Alg values and Manual values'!C75-'Alg values and Manual values'!AA75) -> 1.1027146 | D75: =ABS('Alg values and Manual values'!D75-'Alg values and Manual values'!AB75) -> 13.468085 | E75: =ABS('Alg values and Manual values'!E75-'Alg values and Manual values'!AC75) -> 16.038151 | F75: =ABS('Alg values and Manual values'!K75-'Alg values and Manual values'!AA75) -> 5.0645635 | G75: =ABS('Alg values and Manual values'!L75-'Alg values and Manual values'!AB75) -> 10.60675 | H75: =ABS('Alg values and Manual values'!M75-'Alg values and Manual values'!AC75) -> 15.818048 | I75: =ABS('Alg values and Manual values'!S75-'Alg values and Manual values'!AA75) -> 6.3851798 | J75: =ABS('Alg values and Manual values'!T75-'Alg values and Manual values'!AB75) -> 3.7835657 | K75: =ABS('Alg values and Manual values'!U75-'Alg values and Manual values'!AC75) -> 16.698459 | L75: 0.14673514
A76: 5578.JPG
